BEGIN:VCALENDAR
VERSION:2.0
PRODID:-//Shoppes at Thornebrook - ECPv6.15.20//NONSGML v1.0//EN
CALSCALE:GREGORIAN
METHOD:PUBLISH
X-ORIGINAL-URL:https://shoppesatthornebrook.com
X-WR-CALDESC:Events for Shoppes at Thornebrook
REFRESH-INTERVAL;VALUE=DURATION:PT1H
X-Robots-Tag:noindex
X-PUBLISHED-TTL:PT1H
BEGIN:VTIMEZONE
TZID:America/New_York
BEGIN:DAYLIGHT
TZOFFSETFROM:-0500
TZOFFSETTO:-0400
TZNAME:EDT
DTSTART:20220313T070000
END:DAYLIGHT
BEGIN:STANDARD
TZOFFSETFROM:-0400
TZOFFSETTO:-0500
TZNAME:EST
DTSTART:20221106T060000
END:STANDARD
BEGIN:DAYLIGHT
TZOFFSETFROM:-0500
TZOFFSETTO:-0400
TZNAME:EDT
DTSTART:20230312T070000
END:DAYLIGHT
BEGIN:STANDARD
TZOFFSETFROM:-0400
TZOFFSETTO:-0500
TZNAME:EST
DTSTART:20231105T060000
END:STANDARD
BEGIN:DAYLIGHT
TZOFFSETFROM:-0500
TZOFFSETTO:-0400
TZNAME:EDT
DTSTART:20240310T070000
END:DAYLIGHT
BEGIN:STANDARD
TZOFFSETFROM:-0400
TZOFFSETTO:-0500
TZNAME:EST
DTSTART:20241103T060000
END:STANDARD
END:VTIMEZONE
BEGIN:VEVENT
DTSTART;TZID=America/New_York:20230415T140000
DTEND;TZID=America/New_York:20230415T160000
DTSTAMP:20260420T003323
CREATED:20230404T180203Z
LAST-MODIFIED:20230404T180203Z
UID:3034-1681567200-1681574400@shoppesatthornebrook.com
SUMMARY:A Workout to Wine About
DESCRIPTION:🍾 Join us April 15 starting at 2pm for A Workout To Wine About! \n🫶🏽 A bodyweight & kettlebell workout * limited spots! * \n🥂 Drinks and light snacks upstairs\, while mingling and shopping tables from local shops! \n🫶🏽 Have a small business that’s interested in tabling? DM us!
URL:https://shoppesatthornebrook.com/event/a-workout-to-wine-about/
LOCATION:352 Fitness\, 2441 NW 43rd St Unit 5A\, Gainesville\, FL\, 32609\, United States
ATTACH;FMTTYPE=image/jpeg:https://shoppesatthornebrook.com/wp-content/uploads/2023/04/A-workout-to-wine-about-1.jpg
END:VEVENT
BEGIN:VEVENT
DTSTART;TZID=America/New_York:20230420T130000
DTEND;TZID=America/New_York:20230420T180000
DTSTAMP:20260420T003323
CREATED:20230424T005139Z
LAST-MODIFIED:20230424T005139Z
UID:3060-1681995600-1682013600@shoppesatthornebrook.com
SUMMARY:Designer Joseph Ribkoff - New & Upcoming Lines
DESCRIPTION:Montreal designer Joseph Ribkoff features apparel perfect for women who want elegant\, comfortable attire that fits like it was tailored just for them.\nThis special event will feature the new and upcoming collections including the current Spring/Summer Hot Styles and Fall Preview 2023.\nRepresentative Kara Slankard will be there to assist you in special ordering.\nTo RSVP or if you have any questions\, please call or text Ilene at 352-317-3413. Ilene’s Gator Store is located in The Shoppes At Thornebrook\, 2441 NW 43rd St\, Suite 19\, Gainesville\, Florida 32606
URL:https://shoppesatthornebrook.com/event/designer-joseph-ribkoff-new-upcoming-lines-3/
LOCATION:Ilene’s Gator Store\, 2441 NW 43rd St\, #19\, Thornebrook Village\, Gainesville\, FL\, 32606\, United States
ATTACH;FMTTYPE=image/png:https://shoppesatthornebrook.com/wp-content/uploads/2023/04/Screen-Shot-2023-04-18-at-8.48.39-AM.png
END:VEVENT
END:VCALENDAR