BEGIN:VCALENDAR
VERSION:2.0
PRODID:-//Shoppes at Thornebrook - ECPv6.15.20//NONSGML v1.0//EN
CALSCALE:GREGORIAN
METHOD:PUBLISH
X-WR-CALNAME:Shoppes at Thornebrook
X-ORIGINAL-URL:https://shoppesatthornebrook.com
X-WR-CALDESC:Events for Shoppes at Thornebrook
REFRESH-INTERVAL;VALUE=DURATION:PT1H
X-Robots-Tag:noindex
X-PUBLISHED-TTL:PT1H
BEGIN:VTIMEZONE
TZID:America/New_York
BEGIN:DAYLIGHT
TZOFFSETFROM:-0500
TZOFFSETTO:-0400
TZNAME:EDT
DTSTART:20210314T070000
END:DAYLIGHT
BEGIN:STANDARD
TZOFFSETFROM:-0400
TZOFFSETTO:-0500
TZNAME:EST
DTSTART:20211107T060000
END:STANDARD
BEGIN:DAYLIGHT
TZOFFSETFROM:-0500
TZOFFSETTO:-0400
TZNAME:EDT
DTSTART:20220313T070000
END:DAYLIGHT
BEGIN:STANDARD
TZOFFSETFROM:-0400
TZOFFSETTO:-0500
TZNAME:EST
DTSTART:20221106T060000
END:STANDARD
BEGIN:DAYLIGHT
TZOFFSETFROM:-0500
TZOFFSETTO:-0400
TZNAME:EDT
DTSTART:20230312T070000
END:DAYLIGHT
BEGIN:STANDARD
TZOFFSETFROM:-0400
TZOFFSETTO:-0500
TZNAME:EST
DTSTART:20231105T060000
END:STANDARD
END:VTIMEZONE
BEGIN:VEVENT
DTSTART;TZID=America/New_York:20221207T130000
DTEND;TZID=America/New_York:20221207T180000
DTSTAMP:20260420T055122
CREATED:20221114T210859Z
LAST-MODIFIED:20221114T210859Z
UID:2906-1670418000-1670436000@shoppesatthornebrook.com
SUMMARY:Designer Joseph Ribkoff - New & Upcoming Lines
DESCRIPTION:Montreal designer Joseph Ribkoff features apparel perfect for women who want elegant\, comfortable attire that fits like it was tailored just for them.\nThis special event will feature the new and upcoming collections.\nRepresentative Kara Slankard will be there to assist you in special ordering.\nTo RSVP or if you have any questions\, please call or text Ilene at 352-317-3413. Ilene’s Gator Store is located in The Shoppes At Thornebrook\, 2441 NW 43rd St\, Suite 19\, Gainesville\, Florida 32606
URL:https://shoppesatthornebrook.com/event/designer-joseph-ribkoff-new-upcoming-lines-2/
LOCATION:Ilene’s Gator Store\, 2441 NW 43rd St\, #19\, Thornebrook Village\, Gainesville\, FL\, 32606\, United States
ATTACH;FMTTYPE=image/png:https://shoppesatthornebrook.com/wp-content/uploads/2022/11/JR-events-copy.png
ORGANIZER;CN="Ilene's Gator Store":MAILTO:info@ilenesgatorstore.com
END:VEVENT
BEGIN:VEVENT
DTSTART;TZID=America/New_York:20221209T170000
DTEND;TZID=America/New_York:20221209T210000
DTSTAMP:20260420T055122
CREATED:20221014T153224Z
LAST-MODIFIED:20221114T212337Z
UID:2836-1670605200-1670619600@shoppesatthornebrook.com
SUMMARY:Holiday Market and Open House
DESCRIPTION:Thornebrook will be decorated in winter wonderland attire. Featuring music on the outdoor stage and an arts and crafts show.\nParticipating stores will be open late. At least 24 artists have committed to this event\, so you don’t want to miss it!\nSanta and the elf crew will be on staff. Food vendors pending.
URL:https://shoppesatthornebrook.com/event/holiday-market-and-open-house-2/
LOCATION:Shoppes At Thornebrook\, 2441 NW 43rd Street\, Gainesville\, 32606\, United States
ATTACH;FMTTYPE=image/png:https://shoppesatthornebrook.com/wp-content/uploads/2022/10/Holiday-Market-and-Open-House.png
END:VEVENT
END:VCALENDAR