BEGIN:VCALENDAR
VERSION:2.0
PRODID:-//Shoppes at Thornebrook - ECPv6.15.20//NONSGML v1.0//EN
CALSCALE:GREGORIAN
METHOD:PUBLISH
X-WR-CALNAME:Shoppes at Thornebrook
X-ORIGINAL-URL:https://shoppesatthornebrook.com
X-WR-CALDESC:Events for Shoppes at Thornebrook
REFRESH-INTERVAL;VALUE=DURATION:PT1H
X-Robots-Tag:noindex
X-PUBLISHED-TTL:PT1H
BEGIN:VTIMEZONE
TZID:America/New_York
BEGIN:DAYLIGHT
TZOFFSETFROM:-0500
TZOFFSETTO:-0400
TZNAME:EDT
DTSTART:20200308T070000
END:DAYLIGHT
BEGIN:STANDARD
TZOFFSETFROM:-0400
TZOFFSETTO:-0500
TZNAME:EST
DTSTART:20201101T060000
END:STANDARD
BEGIN:DAYLIGHT
TZOFFSETFROM:-0500
TZOFFSETTO:-0400
TZNAME:EDT
DTSTART:20210314T070000
END:DAYLIGHT
BEGIN:STANDARD
TZOFFSETFROM:-0400
TZOFFSETTO:-0500
TZNAME:EST
DTSTART:20211107T060000
END:STANDARD
BEGIN:DAYLIGHT
TZOFFSETFROM:-0500
TZOFFSETTO:-0400
TZNAME:EDT
DTSTART:20220313T070000
END:DAYLIGHT
BEGIN:STANDARD
TZOFFSETFROM:-0400
TZOFFSETTO:-0500
TZNAME:EST
DTSTART:20221106T060000
END:STANDARD
END:VTIMEZONE
BEGIN:VEVENT
DTSTART;TZID=America/New_York:20211114T110000
DTEND;TZID=America/New_York:20211114T150000
DTSTAMP:20260420T235432
CREATED:20210825T140223Z
LAST-MODIFIED:20210825T140223Z
UID:1849-1636887600-1636902000@shoppesatthornebrook.com
SUMMARY:Kidpreneur Pop-up Shop
DESCRIPTION:Get ready for Trinitys Day Spa Kidpreneur Pop-up Shop. Support kids/teens who aspire to be their our boss and run a successful business one day!  Registration information for kids who would like to participate is in the flyer and on trinitysdayspa.com. \n  \n 
URL:https://shoppesatthornebrook.com/event/kidpreneur-pop-up-shop/
LOCATION:San Felasco Tech City\, 13900 Tech City Circle\, Alachua\, FL\, 32615\, United States
ATTACH;FMTTYPE=image/jpeg:https://shoppesatthornebrook.com/wp-content/uploads/2021/08/Kidpreneur-Pop-up-Shop.jpeg
END:VEVENT
BEGIN:VEVENT
DTSTART;TZID=America/New_York:20211118T190000
DTEND;TZID=America/New_York:20211118T210000
DTSTAMP:20260420T235432
CREATED:20211117T163634Z
LAST-MODIFIED:20211117T163634Z
UID:1892-1637262000-1637269200@shoppesatthornebrook.com
SUMMARY:Ladies Night Out at Malgorzata's
DESCRIPTION:Bring a friend\, enjoy a glass of wine\, have a snack\, and try new arrivals!\nSee Malgorzata’s new clothing lines\, bags\, and jewelry for your special occasions or casual times.\nDoor prizes.
URL:https://shoppesatthornebrook.com/event/ladies-night-out-at-malgorzatas/
LOCATION:Malgorzata’s Gallery and Boutique\, 2441 NW43rd st #9\, Gainesville\, FL\, 32606\, United States
ATTACH;FMTTYPE=image/png:https://shoppesatthornebrook.com/wp-content/uploads/2021/11/Thornebrook-events.png
END:VEVENT
BEGIN:VEVENT
DTSTART;TZID=America/New_York:20211119T150000
DTEND;TZID=America/New_York:20211119T190000
DTSTAMP:20260420T235432
CREATED:20211117T152258Z
LAST-MODIFIED:20211117T152258Z
UID:1887-1637334000-1637348400@shoppesatthornebrook.com
SUMMARY:Shop and Support MOMS
DESCRIPTION:The Junior League of Gainesville is hosting a Shop and Support event at ilene’s gator store. 🐊 Mark your calendars\, and come pick out a new gameday outfit. 10% of all sales will be donated to the Junior League of Gainesville. \nThe Junior League of Gainesville\, Florida\, Inc. is an organization of women committed to promoting voluntarism\, developing the potential of women\, and improving communities through the effective action and leadership of trained volunteers.
URL:https://shoppesatthornebrook.com/event/shop-and-support-moms/
LOCATION:Ilene’s Gator Store\, 2441 NW 43rd St\, #19\, Thornebrook Village\, Gainesville\, FL\, 32606\, United States
ATTACH;FMTTYPE=image/png:https://shoppesatthornebrook.com/wp-content/uploads/2021/11/Complimentary-Gift-Wrapping-1.png
ORGANIZER;CN="Ilene's Gator Store":MAILTO:info@ilenesgatorstore.com
END:VEVENT
BEGIN:VEVENT
DTSTART;TZID=America/New_York:20211120T170000
DTEND;TZID=America/New_York:20211120T190000
DTSTAMP:20260420T235432
CREATED:20211112T212004Z
LAST-MODIFIED:20211112T212004Z
UID:1883-1637427600-1637434800@shoppesatthornebrook.com
SUMMARY:30th Annual Tree Lighting
DESCRIPTION:Put on your favorite sweater and join us for hot cocoa\, cookies\, and caroling  as we celebrate the arrival of the Holiday Season with our annual tree lighting.\nHoggtowne Music students will perform and all are welcome to join in group Christmas caroling.\nDo Art With Yopp! will have an ornament decorating station \n\nRSVP on Facebook
URL:https://shoppesatthornebrook.com/event/30th-annual-tree-lighting/
LOCATION:Shoppes At Thornebrook\, 2441 NW 43rd Street\, Gainesville\, 32606\, United States
ATTACH;FMTTYPE=image/png:https://shoppesatthornebrook.com/wp-content/uploads/2021/11/Copy-of-36th-Annual-ART-FESTIVAL-Facebook-Cover-Instagram-Post.png
END:VEVENT
BEGIN:VEVENT
DTSTART;VALUE=DATE:20211127
DTEND;VALUE=DATE:20211128
DTSTAMP:20260420T235432
CREATED:20211126T151408Z
LAST-MODIFIED:20211126T151408Z
UID:1904-1637971200-1638057599@shoppesatthornebrook.com
SUMMARY:Small Business Saturday
DESCRIPTION:After the frenzy of Black Friday\, enjoy a day of shopping at your favorite locally-owned shops. Support small business and pick up some unique finds during Small Business Saturday.\nPlease check with individual shops for their hours.
URL:https://shoppesatthornebrook.com/event/small-business-saturday-2/
LOCATION:Shoppes At Thornebrook\, 2441 NW 43rd Street\, Gainesville\, 32606\, United States
ATTACH;FMTTYPE=image/png:https://shoppesatthornebrook.com/wp-content/uploads/2021/11/Complimentary-Gift-Wrapping-2.png
END:VEVENT
END:VCALENDAR