BEGIN:VCALENDAR
VERSION:2.0
PRODID:-//Shoppes at Thornebrook - ECPv6.15.20//NONSGML v1.0//EN
CALSCALE:GREGORIAN
METHOD:PUBLISH
X-WR-CALNAME:Shoppes at Thornebrook
X-ORIGINAL-URL:https://shoppesatthornebrook.com
X-WR-CALDESC:Events for Shoppes at Thornebrook
REFRESH-INTERVAL;VALUE=DURATION:PT1H
X-Robots-Tag:noindex
X-PUBLISHED-TTL:PT1H
BEGIN:VTIMEZONE
TZID:America/New_York
BEGIN:DAYLIGHT
TZOFFSETFROM:-0500
TZOFFSETTO:-0400
TZNAME:EDT
DTSTART:20200308T070000
END:DAYLIGHT
BEGIN:STANDARD
TZOFFSETFROM:-0400
TZOFFSETTO:-0500
TZNAME:EST
DTSTART:20201101T060000
END:STANDARD
BEGIN:DAYLIGHT
TZOFFSETFROM:-0500
TZOFFSETTO:-0400
TZNAME:EDT
DTSTART:20210314T070000
END:DAYLIGHT
BEGIN:STANDARD
TZOFFSETFROM:-0400
TZOFFSETTO:-0500
TZNAME:EST
DTSTART:20211107T060000
END:STANDARD
BEGIN:DAYLIGHT
TZOFFSETFROM:-0500
TZOFFSETTO:-0400
TZNAME:EDT
DTSTART:20220313T070000
END:DAYLIGHT
BEGIN:STANDARD
TZOFFSETFROM:-0400
TZOFFSETTO:-0500
TZNAME:EST
DTSTART:20221106T060000
END:STANDARD
END:VTIMEZONE
BEGIN:VEVENT
DTSTART;TZID=America/New_York:20210806T090000
DTEND;TZID=America/New_York:20210806T130000
DTSTAMP:20260421T034958
CREATED:20210825T135717Z
LAST-MODIFIED:20210825T135717Z
UID:1845-1628240400-1628254800@shoppesatthornebrook.com
SUMMARY:Back2School Braid Bash
DESCRIPTION:For girls K-12 – time to get ready for Back 2 School with Trinitys Day Spa Braid Bash! Free event\, lunch provided. Contact info in the flyer if interested.
URL:https://shoppesatthornebrook.com/event/back2school-braid-bash/
LOCATION:MLK Center\, 1028 NE 14th Street\, Gainesville\, FL\, 32601\, United States
ATTACH;FMTTYPE=image/jpeg:https://shoppesatthornebrook.com/wp-content/uploads/2021/08/Back2School-Braid-Bash.jpeg
END:VEVENT
BEGIN:VEVENT
DTSTART;TZID=America/New_York:20210826T140000
DTEND;TZID=America/New_York:20210826T180000
DTSTAMP:20260421T034958
CREATED:20210825T135207Z
LAST-MODIFIED:20210825T135207Z
UID:1842-1629986400-1630000800@shoppesatthornebrook.com
SUMMARY:Designer Joseph Ribkoff - New & Upcoming Lines
DESCRIPTION:Coming to Ilene’s Gator Store Thursday\, August 26th from 2 – 6 pm. Joseph Ribkoff apparel is perfect for women who want elegant\, comfortable attire that fits like it was tailored just for them.\n\n\nThis special event will feature the upcoming Fall and Holiday collections including magazine styles\, new denim pieces\, and occasion dresses.\n\n\nRepresentative Kara Slankard will be there to assist you in special ordering. All orders receive a free gift.\n\n\nTo RSVP or if you have any questions\, please call or text Ilene at 352-317-3413. Ilene’s Gator Store is located in The Shoppes At Thornebrook\, 2441 NW 43rd St\, Suite 19\, Gainesville\, Florida 32606
URL:https://shoppesatthornebrook.com/event/designer-joseph-ribkoff-new-upcoming-lines/
LOCATION:Ilene’s Gator Store\, 2441 NW 43rd St\, #19\, Thornebrook Village\, Gainesville\, FL\, 32606\, United States
ATTACH;FMTTYPE=image/png:https://shoppesatthornebrook.com/wp-content/uploads/2021/08/Joseph-Ribkoff-Event-flyer.png
ORGANIZER;CN="Ilene's Gator Store":MAILTO:info@ilenesgatorstore.com
END:VEVENT
END:VCALENDAR