BEGIN:VCALENDAR
VERSION:2.0
PRODID:-//Shoppes at Thornebrook - ECPv6.15.20//NONSGML v1.0//EN
CALSCALE:GREGORIAN
METHOD:PUBLISH
X-ORIGINAL-URL:https://shoppesatthornebrook.com
X-WR-CALDESC:Events for Shoppes at Thornebrook
REFRESH-INTERVAL;VALUE=DURATION:PT1H
X-Robots-Tag:noindex
X-PUBLISHED-TTL:PT1H
BEGIN:VTIMEZONE
TZID:America/New_York
BEGIN:DAYLIGHT
TZOFFSETFROM:-0500
TZOFFSETTO:-0400
TZNAME:EDT
DTSTART:20200308T070000
END:DAYLIGHT
BEGIN:STANDARD
TZOFFSETFROM:-0400
TZOFFSETTO:-0500
TZNAME:EST
DTSTART:20201101T060000
END:STANDARD
BEGIN:DAYLIGHT
TZOFFSETFROM:-0500
TZOFFSETTO:-0400
TZNAME:EDT
DTSTART:20210314T070000
END:DAYLIGHT
BEGIN:STANDARD
TZOFFSETFROM:-0400
TZOFFSETTO:-0500
TZNAME:EST
DTSTART:20211107T060000
END:STANDARD
BEGIN:DAYLIGHT
TZOFFSETFROM:-0500
TZOFFSETTO:-0400
TZNAME:EDT
DTSTART:20220313T070000
END:DAYLIGHT
BEGIN:STANDARD
TZOFFSETFROM:-0400
TZOFFSETTO:-0500
TZNAME:EST
DTSTART:20221106T060000
END:STANDARD
END:VTIMEZONE
BEGIN:VEVENT
DTSTART;TZID=America/New_York:20210716T200000
DTEND;TZID=America/New_York:20210716T235900
DTSTAMP:20260421T051407
CREATED:20210628T145750Z
LAST-MODIFIED:20210628T145750Z
UID:1819-1626465600-1626479940@shoppesatthornebrook.com
SUMMARY:X-Brides Club presented by Top Secret Events and The Wedding Cycle
DESCRIPTION:✨Calling all brides & bridesmaids of the past\, present and future!✨ \n  \nIt’s time to dig through your closet and finally give those expensive dresses their 2nd use.💃 Why would you have just the ONE big day when you can have two? Yup\, you read that right! The Wooly and the Wedding Cycle invite you and all your besties to join the X-Brides Club on July 16th from 8pm-12am. We’ll have drinks\, food\, games\, music\, and raffles.🍹🎶🎉 Expect all the fun of the big event\, minus all the stress. You know we got it covered. 😉 \n  \nGather your special gals (or guys) and get in on all the fun! The X-Brides Club would love to see you come in your wedding-day best. We’re talking wedding gowns\, bachelorette dresses and suits! No wedding-day apparel? No problem! We love a good thrifted moment.✨ \n  \nHurry up besties because tickets are limited. 💖 We’re even offering a special deal when buying in groups of 2- get 1 ticket for $15 or 2 tickets for $26. Welcome to the club friends\, we can’t wait to see you there!✨
URL:https://shoppesatthornebrook.com/event/x-brides-club-presented-by-top-secret-events-and-the-wedding-cycle/
LOCATION:The Wooly\, 20 N Main St\, Gainesville\, FL\, 32601\, United States
ATTACH;FMTTYPE=image/jpeg:https://shoppesatthornebrook.com/wp-content/uploads/2021/06/200442523_1498740280296526_8444835319562499451_n.jpeg
ORGANIZER;CN="The Wedding Cycle":MAILTO:theweddingcyclellc@gmail.com
END:VEVENT
END:VCALENDAR