BEGIN:VCALENDAR
VERSION:2.0
PRODID:-//Shoppes at Thornebrook - ECPv6.15.20//NONSGML v1.0//EN
CALSCALE:GREGORIAN
METHOD:PUBLISH
X-ORIGINAL-URL:https://shoppesatthornebrook.com
X-WR-CALDESC:Events for Shoppes at Thornebrook
REFRESH-INTERVAL;VALUE=DURATION:PT1H
X-Robots-Tag:noindex
X-PUBLISHED-TTL:PT1H
BEGIN:VTIMEZONE
TZID:America/New_York
BEGIN:DAYLIGHT
TZOFFSETFROM:-0500
TZOFFSETTO:-0400
TZNAME:EDT
DTSTART:20200308T070000
END:DAYLIGHT
BEGIN:STANDARD
TZOFFSETFROM:-0400
TZOFFSETTO:-0500
TZNAME:EST
DTSTART:20201101T060000
END:STANDARD
BEGIN:DAYLIGHT
TZOFFSETFROM:-0500
TZOFFSETTO:-0400
TZNAME:EDT
DTSTART:20210314T070000
END:DAYLIGHT
BEGIN:STANDARD
TZOFFSETFROM:-0400
TZOFFSETTO:-0500
TZNAME:EST
DTSTART:20211107T060000
END:STANDARD
BEGIN:DAYLIGHT
TZOFFSETFROM:-0500
TZOFFSETTO:-0400
TZNAME:EDT
DTSTART:20220313T070000
END:DAYLIGHT
BEGIN:STANDARD
TZOFFSETFROM:-0400
TZOFFSETTO:-0500
TZNAME:EST
DTSTART:20221106T060000
END:STANDARD
END:VTIMEZONE
BEGIN:VEVENT
DTSTART;TZID=America/New_York:20210519T180000
DTEND;TZID=America/New_York:20210519T180000
DTSTAMP:20260421T073417
CREATED:20210513T152734Z
LAST-MODIFIED:20210513T152734Z
UID:1796-1621447200-1621447200@shoppesatthornebrook.com
SUMMARY:Live Concert "Pair O' Docs"
DESCRIPTION:Enjoy a free concert in Thornebrook Village. Bring your chair or blanket.\nAcoustic Guitars and Vocals covers & more.
URL:https://shoppesatthornebrook.com/event/live-concert-pair-o-docs/
LOCATION:Shoppes At Thornebrook\, 2441 NW 43rd Street\, Gainesville\, 32606\, United States
ATTACH;FMTTYPE=image/jpeg:https://shoppesatthornebrook.com/wp-content/uploads/2021/05/Live-Concert-Pair-O-Docs.jpeg
END:VEVENT
BEGIN:VEVENT
DTSTART;TZID=America/New_York:20210528T180000
DTEND;TZID=America/New_York:20210528T190000
DTSTAMP:20260421T073417
CREATED:20210513T153611Z
LAST-MODIFIED:20210513T153611Z
UID:1799-1622224800-1622228400@shoppesatthornebrook.com
SUMMARY:The Hipp Pop-Up Series - Thornebrook Village
DESCRIPTION:Come celebrate live performances with the Hippodrome all summer long! The Hipp Pop Up Series\, a traveling show featuring professional cabaret performances\, will be performed by some of your favorite Hippodrome actors. Shows will be ‘popping up’ all over Gainesville and Alachua County and each artist will perform a 45-minute show you will never forget. And its free! \nOn May 28th The Hipp will bring their performance to the Thornebrook Village outdoor stage.  More information about this series is available on the Hippodrome’s website.
URL:https://shoppesatthornebrook.com/event/the-hipp-pop-up-series-thornebrook-village/
LOCATION:Shoppes At Thornebrook\, 2441 NW 43rd Street\, Gainesville\, 32606\, United States
ATTACH;FMTTYPE=image/jpeg:https://shoppesatthornebrook.com/wp-content/uploads/2021/05/TheHippPopup_Events_In-House-Monitor-Slides-1024x768-1.jpeg
END:VEVENT
END:VCALENDAR