BEGIN:VCALENDAR
VERSION:2.0
PRODID:-//Shoppes at Thornebrook - ECPv6.15.20//NONSGML v1.0//EN
CALSCALE:GREGORIAN
METHOD:PUBLISH
X-WR-CALNAME:Shoppes at Thornebrook
X-ORIGINAL-URL:https://shoppesatthornebrook.com
X-WR-CALDESC:Events for Shoppes at Thornebrook
REFRESH-INTERVAL;VALUE=DURATION:PT1H
X-Robots-Tag:noindex
X-PUBLISHED-TTL:PT1H
BEGIN:VTIMEZONE
TZID:America/New_York
BEGIN:DAYLIGHT
TZOFFSETFROM:-0500
TZOFFSETTO:-0400
TZNAME:EDT
DTSTART:20190310T070000
END:DAYLIGHT
BEGIN:STANDARD
TZOFFSETFROM:-0400
TZOFFSETTO:-0500
TZNAME:EST
DTSTART:20191103T060000
END:STANDARD
BEGIN:DAYLIGHT
TZOFFSETFROM:-0500
TZOFFSETTO:-0400
TZNAME:EDT
DTSTART:20200308T070000
END:DAYLIGHT
BEGIN:STANDARD
TZOFFSETFROM:-0400
TZOFFSETTO:-0500
TZNAME:EST
DTSTART:20201101T060000
END:STANDARD
BEGIN:DAYLIGHT
TZOFFSETFROM:-0500
TZOFFSETTO:-0400
TZNAME:EDT
DTSTART:20210314T070000
END:DAYLIGHT
BEGIN:STANDARD
TZOFFSETFROM:-0400
TZOFFSETTO:-0500
TZNAME:EST
DTSTART:20211107T060000
END:STANDARD
END:VTIMEZONE
BEGIN:VEVENT
DTSTART;TZID=America/New_York:20200418T090000
DTEND;TZID=America/New_York:20200418T233000
DTSTAMP:20260422T002609
CREATED:20200430T214530Z
LAST-MODIFIED:20200430T214530Z
UID:1543-1587200400-1587252600@shoppesatthornebrook.com
SUMMARY:Drive-Thru Farmer's Market
DESCRIPTION:We’re re-opening our Farmer’s Market as a drive-thru for the peak of berry season! Fresh organic blueberries\, strawberries from Rogers Farm\, and organic powdered turmeric. (Actual photos taken from the grower)  \nPLEASE PRE-ORDER by calling (352) 222-0303 or Facebook messaging Pink Panther Produce & Floral on their Facebook page.  Order by Thursday\, April 16 at 10 am for Saturday morning pick-up. \nThe location for pick up will be Thornebrook Village between Lilly’s Alterations & Thornebrook Chocolates in the loading zone. \nStrawberries Full Flat $25 or Half Flat $13\nOrganic Blueberries 4 lbs. in a plastic gallon bag $25\nOrganic Powdered Turmeric 1 ounce sachet $10 \nUPDATE! New items added:\nGreen Cabbage $1.00 each\nBroccoli crowns 2 lb bag $2.00\nExtra large red & green bell peppers 2 for $3.00\nYellow squash 2 lb bag $2.00\nZucchini Squash 2 lb bag $2.00\nSweet Corn 4 ct bag $3.00\nGreen beans 2 lb bag $3.00\nCucumbers 2 for $1.50\nLarge Seedless Watermelon $5.00 each \nABOUT OUR FARMS:\nCaceres Organic Blueberry Farm not only grows the organic blueberries but also grows the Organic turmeric. It takes 16 hours to cook one batch. Plus it is infused with 2.5% organic black pepper (for absorption). Twice the industry standard for capsulated brands. Each 1 ounce package should last close to 4 weeks if 1/4 teaspoon is taken in the am & pm. Turmeric is also good for building your immune system – so important with everything going on in today’s world.
URL:https://shoppesatthornebrook.com/event/drive-thru-farmers-market/
LOCATION:Shoppes At Thornebrook\, 2441 NW 43rd Street\, Gainesville\, 32606\, United States
ATTACH;FMTTYPE=image/png:https://shoppesatthornebrook.com/wp-content/uploads/2020/04/Drive-Thru-Farmers-Market-at-Thornebrook.png
END:VEVENT
BEGIN:VEVENT
DTSTART;TZID=America/New_York:20200425T090000
DTEND;TZID=America/New_York:20200425T150000
DTSTAMP:20260422T002609
CREATED:20200430T214702Z
LAST-MODIFIED:20200528T143413Z
UID:1547-1587805200-1587826800@shoppesatthornebrook.com
SUMMARY:Drive-Thru Farmer's Market
DESCRIPTION:QUESTIONS? Please call (352) 222-0303 or Facebook messaging Pink Panther Produce & Floral on their Facebook page. \nOur Drive-Thru Farmer’s Market returns this Saturday with extended hours!  See below for more information and available produce. \nTO ORDER:\nCall (352) 222-0303 or Facebook messaging Pink Panther Produce & Floral on their Facebook page.  If you want blueberries\, you will need to pay in advance by 10 am on Thursday (4/23) to ensure grower availability.  Other items can be purchased at the market. \nPICK-UP LOCATION:\nThe location for pick up will be Thornebrook Village between Lilly’s Alterations & Thornebrook Chocolates in the loading zone. Look for the florescent signs on which direction to enter & exit when you get there. \nAVAILABLE ITEMS:\n*Organic Blueberries 4 lbs. in a plastic gallon bag $25\n*Organic Powdered Turmeric 1 ounce sachet $10\n*Green Cabbage $1.00 each\n*Red Cabbage $1.00 each\n*Broccoli crowns 2 lbs. $3.00\n*Yellow squash 2 lbs. $2.00\n*Zucchini Squash 2 lbs. $2.00\n*Sweet Corn 5 for $3.00\n*Green beans 2 lbs. $3.00\n*Cucumbers 3 for $2.00\n*Large Seedless Watermelon $5.00 each\n*Large Vine-ripe tomatoes $1.00 each\nBananas 3 lbs. $2.00\nMangoes 2 for $3.00\nPineapple $3.00 each\n*Eggplant $2.00 each\n*Okra 2 lbs. $3\n*Red B potatoes 2 lbs. $3\n*Large Red Onions & Large Sweet Onions 2 for $3.00\n*Extra large red & green bell peppers 2 for $3.00\nAs for apple and citrus pricing – will know the day of drive-thru. \n*Denotes Florida Growers
URL:https://shoppesatthornebrook.com/event/drive-thru-farmers-market-2/
LOCATION:Shoppes At Thornebrook\, 2441 NW 43rd Street\, Gainesville\, 32606\, United States
ATTACH;FMTTYPE=image/png:https://shoppesatthornebrook.com/wp-content/uploads/2020/04/Drive-Thru-Farmers-Market-at-Thornebrook.png
END:VEVENT
END:VCALENDAR