BEGIN:VCALENDAR
VERSION:2.0
PRODID:-//Shoppes at Thornebrook - ECPv6.15.20//NONSGML v1.0//EN
CALSCALE:GREGORIAN
METHOD:PUBLISH
X-ORIGINAL-URL:https://shoppesatthornebrook.com
X-WR-CALDESC:Events for Shoppes at Thornebrook
REFRESH-INTERVAL;VALUE=DURATION:PT1H
X-Robots-Tag:noindex
X-PUBLISHED-TTL:PT1H
BEGIN:VTIMEZONE
TZID:America/New_York
BEGIN:DAYLIGHT
TZOFFSETFROM:-0500
TZOFFSETTO:-0400
TZNAME:EDT
DTSTART:20190310T070000
END:DAYLIGHT
BEGIN:STANDARD
TZOFFSETFROM:-0400
TZOFFSETTO:-0500
TZNAME:EST
DTSTART:20191103T060000
END:STANDARD
BEGIN:DAYLIGHT
TZOFFSETFROM:-0500
TZOFFSETTO:-0400
TZNAME:EDT
DTSTART:20200308T070000
END:DAYLIGHT
BEGIN:STANDARD
TZOFFSETFROM:-0400
TZOFFSETTO:-0500
TZNAME:EST
DTSTART:20201101T060000
END:STANDARD
BEGIN:DAYLIGHT
TZOFFSETFROM:-0500
TZOFFSETTO:-0400
TZNAME:EDT
DTSTART:20210314T070000
END:DAYLIGHT
BEGIN:STANDARD
TZOFFSETFROM:-0400
TZOFFSETTO:-0500
TZNAME:EST
DTSTART:20211107T060000
END:STANDARD
END:VTIMEZONE
BEGIN:VEVENT
DTSTART;TZID=America/New_York:20200307T160000
DTEND;TZID=America/New_York:20200307T180000
DTSTAMP:20260422T014413
CREATED:20200225T164111Z
LAST-MODIFIED:20200225T164111Z
UID:1506-1583596800-1583604000@shoppesatthornebrook.com
SUMMARY:Clothing Swap Party
DESCRIPTION:I talk the talk about recycling every day . I walk the walk with furniture and unwanted items every day. Saturday\, March 7th at 4:00 at Sawdust Dreams we are going to have a fun clothing swap party that you can all participate in easily. Nothing makes a home feel better than cleaning out and decluttering . Time to spring clean and get rid of the clothes that don’t fit and depress us . Follow my post tonight for the Clothing Swap Party . I am posting an event on my page tonight and all are welcome to come \, swap \, drink \, eat and share our love of recycling and love of new outfits . # clothingswap # recycle
URL:https://shoppesatthornebrook.com/event/clothing-swap-party/
LOCATION:Sawdust Dreams\, 2441 nw 43rd street unit 27A\, Gainesville\, FL\, 32605\, United States
ATTACH;FMTTYPE=image/jpeg:https://shoppesatthornebrook.com/wp-content/uploads/2020/02/83362189_2424965474481890_4573563631010054144_n.jpg
END:VEVENT
BEGIN:VEVENT
DTSTART;TZID=America/New_York:20200321T120000
DTEND;TZID=America/New_York:20200321T160000
DTSTAMP:20260422T014413
CREATED:20200122T155855Z
LAST-MODIFIED:20200125T015313Z
UID:1486-1584792000-1584806400@shoppesatthornebrook.com
SUMMARY:An Afternoon with Hiram
DESCRIPTION:Join us for a unique and heartfelt retrospective on one of Florida’s great artists\, Hiram Williams. The exploration of his work will be lead by 2 of his former UF students: Margaret Ross Tolbert and David Arrighi. William’s work hangs in some of the most prestigious museums in the world\, from the MoMA and the Whitney in New York to the Guggenheim Museum of Art in D.C. to the Harn in his hometown of Gainesville. A selection of his work will be available for sale at the show. Don’t miss this very special event and the opportunity to own a work of art by one of the 20th century’s best abstract expressionist painters.
URL:https://shoppesatthornebrook.com/event/an-afternoon-with-hiram/
LOCATION:Thornebrook Gallery\, 2441 NW 43rd St\, Ste 6D\, Gainesville\, FL\, 32606\, United States
ATTACH;FMTTYPE=image/png:https://shoppesatthornebrook.com/wp-content/uploads/2020/01/An-Afternoon-with-Hiram.png
END:VEVENT
END:VCALENDAR