BEGIN:VCALENDAR
VERSION:2.0
PRODID:-//Shoppes at Thornebrook - ECPv6.15.20//NONSGML v1.0//EN
CALSCALE:GREGORIAN
METHOD:PUBLISH
X-WR-CALNAME:Shoppes at Thornebrook
X-ORIGINAL-URL:https://shoppesatthornebrook.com
X-WR-CALDESC:Events for Shoppes at Thornebrook
REFRESH-INTERVAL;VALUE=DURATION:PT1H
X-Robots-Tag:noindex
X-PUBLISHED-TTL:PT1H
BEGIN:VTIMEZONE
TZID:America/New_York
BEGIN:DAYLIGHT
TZOFFSETFROM:-0500
TZOFFSETTO:-0400
TZNAME:EDT
DTSTART:20180311T070000
END:DAYLIGHT
BEGIN:STANDARD
TZOFFSETFROM:-0400
TZOFFSETTO:-0500
TZNAME:EST
DTSTART:20181104T060000
END:STANDARD
BEGIN:DAYLIGHT
TZOFFSETFROM:-0500
TZOFFSETTO:-0400
TZNAME:EDT
DTSTART:20190310T070000
END:DAYLIGHT
BEGIN:STANDARD
TZOFFSETFROM:-0400
TZOFFSETTO:-0500
TZNAME:EST
DTSTART:20191103T060000
END:STANDARD
BEGIN:DAYLIGHT
TZOFFSETFROM:-0500
TZOFFSETTO:-0400
TZNAME:EDT
DTSTART:20200308T070000
END:DAYLIGHT
BEGIN:STANDARD
TZOFFSETFROM:-0400
TZOFFSETTO:-0500
TZNAME:EST
DTSTART:20201101T060000
END:STANDARD
END:VTIMEZONE
BEGIN:VEVENT
DTSTART;TZID=America/New_York:20191012T100000
DTEND;TZID=America/New_York:20191013T170000
DTSTAMP:20260422T081217
CREATED:20190911T183300Z
LAST-MODIFIED:20231123T034625Z
UID:1409-1570874400-1570986000@shoppesatthornebrook.com
SUMMARY:2019 Fall Art Festival at Thornebrook
DESCRIPTION:This event has passed. See upcoming events. \nShare event on Facebook \n120 fine artists and fine craftsmen will be exhibiting October 12-13\, 2019 in Gainesville\, FL throughout the park-like setting of Thornebrook Village Center. This festival is entering its 35th year under the auspices of Thornebrook Village. An attendance of over 20\,000 is expected for this free event. Many of your local favorites and new faces from as far away as Wisconsin are coming to enhance your enjoyment of the show. There will be painting of all kinds\, sculpture\, photography of the familiar and the exotic – both as they were taken and some that are manipulated\, mixed media from fused glass to paintings with additions\, fiber arts\, wood carvings and furniture\, pottery and jewelry – some with gold\, silver and precious gems to beach glass and stones. Show is laid out to take advantage of the ambiance and convenience of Thornebrook Village Square and its stores\, restaurants and other amenities. \n\n			\n				\n			\n			\n				\n			\n			\n				\n			\n			\n				\n			\n			\n				\n			\n			\n				\n			\n			\n				\n			\n			\n				\n			\n			\n				\n			\n			\n				\n			\n			\n				\n			\n			\n				\n			\n			\n				\n			\n			\n				\n			\n			\n				\n			\n			\n				\n			\n			\n				\n			\n			\n				\n			\n			\n				\n			\n			\n		\n\nFood\nThere will be lots of good food – both festival fare such as kettle korn and gyros\, and they tell me we will have the best Thai food around and Sweet Berries will provide water and sweets in the middle of the show\, and from the fine restaurants and the chocolate and gelato shop. Don’t forget to taste the bagels\, fresh sandwiches and salads from Bageland. Enjoy the soups\, sandwiches and salads of Formaggios\, Chinese and Asian fusion at Chopstix\, handmade chocolates and gelato from Thornebrook Chocolates. \nMusic\nOnce again Thornebrook’s annual art festival offers music almost as varied as the visual arts that set the stage. Some of the area’s most-loved performers will be on hand to play a variety of music that’s sure to please almost every taste and still leave plenty of space for conversation. \nThe performers for the weekend will include Gosia & Ali with jazz\, Boulware & Stewart with country sounds\, The Killer B’s with pop vocals\, Stava Mala with the blues\, the Dozenaires with their wide-ranging sounds\, The Cathy DeWitt Trio offering jazzy and more! The Barbergators will wander the ways with 4 part harmonies\, Annasemble Chamber Orchestra with timeless and elegant\, the Santa Fe Brass will leave you thinking you are visiting a small town square in Anywhere\, USA. Uptown Swing with their engaging up-tempo tunes\, Raymond Lohengrin and his classical guitar\, Middle Ground with soft rock\, Susan David has a million of em\, and Karl Weismantel more jazz. I think we have it all for your listening pleasure. \nDownload Performance Schedule \nCome to Gainesville for a daycation to see the show or a staycation and take advantage of the natural beauties – such as the Devil’s Millhopper and Paynes Prairie. There are many galleries and shops to peruse and many types of cuisine to sample – several of which are located in the Thornebrook Village Square. Come and enjoy Gainesville and get to know the many advantages of the area. You will have a wonderful time! \nMajor Sponsors: WCJB-TV20\, the CW\, The Gainesville Sun\, WKTK AND WSKY.
URL:https://shoppesatthornebrook.com/event/35th-annual-art-festival-at-thornebrook/
LOCATION:Shoppes At Thornebrook\, 2441 NW 43rd Street\, Gainesville\, 32606\, United States
ATTACH;FMTTYPE=image/png:https://shoppesatthornebrook.com/wp-content/uploads/2019/09/Shoppes-at-Thornebrook-FB-cover.png
END:VEVENT
BEGIN:VEVENT
DTSTART;TZID=America/New_York:20191016T150000
DTEND;TZID=America/New_York:20191016T180000
DTSTAMP:20260422T081217
CREATED:20191015T131628Z
LAST-MODIFIED:20191015T131628Z
UID:1457-1571238000-1571248800@shoppesatthornebrook.com
SUMMARY:Joseph Ribkoff Winter/Holiday Line
DESCRIPTION:Come see the Fall/Winter and Holiday collections from Montreal designer Joseph Ribkoff.  Also featuring a preview of the Spring 2020 line.  Representative Kara Slankard will be there to discuss the collection and answer questions.  Browse in-store only sales.  Wine and light bites will be served.
URL:https://shoppesatthornebrook.com/event/joseph-ribkoff-winter-holiday-line/
LOCATION:Ilene’s Gator Store\, 2441 NW 43rd St\, #19\, Thornebrook Village\, Gainesville\, FL\, 32606\, United States
ATTACH;FMTTYPE=image/png:https://shoppesatthornebrook.com/wp-content/uploads/2019/10/Joseph-Ribkoff-Event.png
END:VEVENT
BEGIN:VEVENT
DTSTART;TZID=America/New_York:20191023T080000
DTEND;TZID=America/New_York:20191023T230000
DTSTAMP:20260422T081217
CREATED:20191019T133148Z
LAST-MODIFIED:20191019T133148Z
UID:1461-1571817600-1571871600@shoppesatthornebrook.com
SUMMARY:Sip\, Shop\, and Support at Ilene's Gator Store
DESCRIPTION:Join Ilene’s Gator Store and the Junior League of Gainesville for a day of shopping! Support our food insecurity programs by shopping with us on Oct 23. 10% of all sales will be donated back to the Junior League of Gainesville.
URL:https://shoppesatthornebrook.com/event/sip-shop-and-support-at-ilenes-gator-store/
LOCATION:Ilene’s Gator Store\, 2441 NW 43rd St\, #19\, Thornebrook Village\, Gainesville\, FL\, 32606\, United States
ATTACH;FMTTYPE=image/png:https://shoppesatthornebrook.com/wp-content/uploads/2019/10/Back-To-School.png
ORGANIZER;CN="Ilene's Gator Store":MAILTO:info@ilenesgatorstore.com
END:VEVENT
BEGIN:VEVENT
DTSTART;TZID=America/New_York:20191029T180000
DTEND;TZID=America/New_York:20191029T200000
DTSTAMP:20260422T081217
CREATED:20191007T184228Z
LAST-MODIFIED:20191007T184228Z
UID:1452-1572372000-1572379200@shoppesatthornebrook.com
SUMMARY:Trick or Treat!
DESCRIPTION:Bring the whole family out for fun and safe trick or treating at Shoppes at Thornebrook Village. \nCostume Contest for the most creative costumes:\n~ 6 months – 2 years Old\n~ 3 – 6 years\n~ 7 -13 years\n~ Most creative adult costume \nSign in by 6:30 pm at the Clock Tower in the Thornebrook Village Square. Judging starts at 7:00 pm \nSponsored by Thornebrook Chocolates
URL:https://shoppesatthornebrook.com/event/trick-or-treat/
LOCATION:Shoppes At Thornebrook\, 2441 NW 43rd Street\, Gainesville\, 32606\, United States
ATTACH;FMTTYPE=image/png:https://shoppesatthornebrook.com/wp-content/uploads/2019/10/Trick-or-Treat-at-Thornebrook.png
END:VEVENT
END:VCALENDAR