BEGIN:VCALENDAR
VERSION:2.0
PRODID:-//Shoppes at Thornebrook - ECPv6.15.20//NONSGML v1.0//EN
CALSCALE:GREGORIAN
METHOD:PUBLISH
X-ORIGINAL-URL:https://shoppesatthornebrook.com
X-WR-CALDESC:Events for Shoppes at Thornebrook
REFRESH-INTERVAL;VALUE=DURATION:PT1H
X-Robots-Tag:noindex
X-PUBLISHED-TTL:PT1H
BEGIN:VTIMEZONE
TZID:America/New_York
BEGIN:DAYLIGHT
TZOFFSETFROM:-0500
TZOFFSETTO:-0400
TZNAME:EDT
DTSTART:20180311T070000
END:DAYLIGHT
BEGIN:STANDARD
TZOFFSETFROM:-0400
TZOFFSETTO:-0500
TZNAME:EST
DTSTART:20181104T060000
END:STANDARD
BEGIN:DAYLIGHT
TZOFFSETFROM:-0500
TZOFFSETTO:-0400
TZNAME:EDT
DTSTART:20190310T070000
END:DAYLIGHT
BEGIN:STANDARD
TZOFFSETFROM:-0400
TZOFFSETTO:-0500
TZNAME:EST
DTSTART:20191103T060000
END:STANDARD
BEGIN:DAYLIGHT
TZOFFSETFROM:-0500
TZOFFSETTO:-0400
TZNAME:EDT
DTSTART:20200308T070000
END:DAYLIGHT
BEGIN:STANDARD
TZOFFSETFROM:-0400
TZOFFSETTO:-0500
TZNAME:EST
DTSTART:20201101T060000
END:STANDARD
END:VTIMEZONE
BEGIN:VEVENT
DTSTART;TZID=America/New_York:20190719T180000
DTEND;TZID=America/New_York:20190719T210000
DTSTAMP:20260422T115127
CREATED:20190724T162958Z
LAST-MODIFIED:20190724T162958Z
UID:1321-1563559200-1563570000@shoppesatthornebrook.com
SUMMARY:Open House Friday Night for Lyn White
DESCRIPTION:Our friend\, fellow artist\, and quilter extraordinaire Lyn White is moving out of town. We’re sending her off in style with a MID-SUMMER OPEN HOUSE & HELP LYN MOVE SALE & PARTY \nMark your calendars\, bring your friends and family\, and enjoy an artful evening with light refreshments and good vibes. \nFor an extra special treat Bill Hutchinson and Jennifer Johnson\nof the band AMUSICA along with lovely and talented violinist Talia Nishida will entertain us Gentle Pop music. \nLyn will be on hand with tons of one of a kind\, hand made\, functional and fabulous works of art in fiber. Many pieces will be marked down so she doesn’t have to move them all when she heads south. \nWe look forward to seeing you there!\nSee event on Facebook
URL:https://shoppesatthornebrook.com/event/open-house-friday-night-for-lyn-white/
LOCATION:McIntyre Stained Glass Studio & Art Gallery\, 2441 NW 43rd Street\, Suite 11A\, Thornebrook Village\, Gainesville\, FL\, 32606\, United States
ATTACH;FMTTYPE=image/jpeg:https://shoppesatthornebrook.com/wp-content/uploads/2019/07/unnamed.jpg
ORGANIZER;CN="McIntyre Stained Glass Studio & Art Gallery":MAILTO:mcintyrestudio@bellsouth.net
END:VEVENT
BEGIN:VEVENT
DTSTART;TZID=America/New_York:20190720T160000
DTEND;TZID=America/New_York:20190720T200000
DTSTAMP:20260422T115127
CREATED:20190724T162508Z
LAST-MODIFIED:20190724T162508Z
UID:1316-1563638400-1563652800@shoppesatthornebrook.com
SUMMARY:Ladies Football Clinic After Party
DESCRIPTION:Ilene’s Gator Store is thrilled to be part of the annual Ladies Football Clinic this Saturday at UF (registration for that clinic is here. )   \nAfter the clinic\, we will be hosting a Shopping Party at our store from 4 – 8 pm.  Everyone is invited\, whether you attend the clinic or not! \nJoin us at Ilene’s Gator Store for wine and refreshments.  Preview our NEW Gator wear and prepare for the 2019-2020 football season!
URL:https://shoppesatthornebrook.com/event/ladies-football-clinic-after-party/
LOCATION:Ilene’s Gator Store\, 2441 NW 43rd St\, #19\, Thornebrook Village\, Gainesville\, FL\, 32606\, United States
ATTACH;FMTTYPE=image/png:https://shoppesatthornebrook.com/wp-content/uploads/2019/07/ilenes-football-clinic-afterparty.png
ORGANIZER;CN="Ilene's Gator Store":MAILTO:info@ilenesgatorstore.com
END:VEVENT
BEGIN:VEVENT
DTSTART;TZID=America/New_York:20190722T110000
DTEND;TZID=America/New_York:20190722T140000
DTSTAMP:20260422T115127
CREATED:20190724T162146Z
LAST-MODIFIED:20190724T162146Z
UID:1313-1563793200-1563804000@shoppesatthornebrook.com
SUMMARY:Beaded Scarf Workshop
DESCRIPTION:In this class we’ll be making a beautiful beaded scarf. Call 352-336-3925 to secure your seat. $35 each plus your supplies. \nSee event on Facebook
URL:https://shoppesatthornebrook.com/event/beaded-scarf-workshop/
LOCATION:Bead All About It\, 2441 NW 43rd St Suite 1A\, Thornebrook Village\, Gainesville\, Florida\, 32606
ATTACH;FMTTYPE=image/png:https://shoppesatthornebrook.com/wp-content/uploads/2019/07/1.png
ORGANIZER;CN="Bead All About It":MAILTO:beads@beadallaboutit.net
END:VEVENT
BEGIN:VEVENT
DTSTART;TZID=America/New_York:20190722T140000
DTEND;TZID=America/New_York:20190722T160000
DTSTAMP:20260422T115127
CREATED:20190724T161916Z
LAST-MODIFIED:20190724T161916Z
UID:1308-1563804000-1563811200@shoppesatthornebrook.com
SUMMARY:Beaded Bracelet Workshop
DESCRIPTION:In this class we’ll be making a beautiful beaded bracelet. Call 352-336-3925 to secure your seat. $35 plus your supplies. \nSee event on Facebook
URL:https://shoppesatthornebrook.com/event/beaded-bracelet-workshop/
LOCATION:Bead All About It\, 2441 NW 43rd St Suite 1A\, Thornebrook Village\, Gainesville\, Florida\, 32606
ATTACH;FMTTYPE=image/png:https://shoppesatthornebrook.com/wp-content/uploads/2019/07/2.png
ORGANIZER;CN="Bead All About It":MAILTO:beads@beadallaboutit.net
END:VEVENT
END:VCALENDAR