BEGIN:VCALENDAR
VERSION:2.0
PRODID:-//Shoppes at Thornebrook - ECPv6.15.20//NONSGML v1.0//EN
CALSCALE:GREGORIAN
METHOD:PUBLISH
X-WR-CALNAME:Shoppes at Thornebrook
X-ORIGINAL-URL:https://shoppesatthornebrook.com
X-WR-CALDESC:Events for Shoppes at Thornebrook
REFRESH-INTERVAL;VALUE=DURATION:PT1H
X-Robots-Tag:noindex
X-PUBLISHED-TTL:PT1H
BEGIN:VTIMEZONE
TZID:America/New_York
BEGIN:DAYLIGHT
TZOFFSETFROM:-0500
TZOFFSETTO:-0400
TZNAME:EDT
DTSTART:20180311T070000
END:DAYLIGHT
BEGIN:STANDARD
TZOFFSETFROM:-0400
TZOFFSETTO:-0500
TZNAME:EST
DTSTART:20181104T060000
END:STANDARD
BEGIN:DAYLIGHT
TZOFFSETFROM:-0500
TZOFFSETTO:-0400
TZNAME:EDT
DTSTART:20190310T070000
END:DAYLIGHT
BEGIN:STANDARD
TZOFFSETFROM:-0400
TZOFFSETTO:-0500
TZNAME:EST
DTSTART:20191103T060000
END:STANDARD
BEGIN:DAYLIGHT
TZOFFSETFROM:-0500
TZOFFSETTO:-0400
TZNAME:EDT
DTSTART:20200308T070000
END:DAYLIGHT
BEGIN:STANDARD
TZOFFSETFROM:-0400
TZOFFSETTO:-0500
TZNAME:EST
DTSTART:20201101T060000
END:STANDARD
END:VTIMEZONE
BEGIN:VEVENT
DTSTART;TZID=America/New_York:20190720T160000
DTEND;TZID=America/New_York:20190720T200000
DTSTAMP:20260420T040505
CREATED:20190724T162508Z
LAST-MODIFIED:20190724T162508Z
UID:1316-1563638400-1563652800@shoppesatthornebrook.com
SUMMARY:Ladies Football Clinic After Party
DESCRIPTION:Ilene’s Gator Store is thrilled to be part of the annual Ladies Football Clinic this Saturday at UF (registration for that clinic is here. )   \nAfter the clinic\, we will be hosting a Shopping Party at our store from 4 – 8 pm.  Everyone is invited\, whether you attend the clinic or not! \nJoin us at Ilene’s Gator Store for wine and refreshments.  Preview our NEW Gator wear and prepare for the 2019-2020 football season!
URL:https://shoppesatthornebrook.com/event/ladies-football-clinic-after-party/
LOCATION:Ilene’s Gator Store\, 2441 NW 43rd St\, #19\, Thornebrook Village\, Gainesville\, FL\, 32606\, United States
ATTACH;FMTTYPE=image/png:https://shoppesatthornebrook.com/wp-content/uploads/2019/07/ilenes-football-clinic-afterparty.png
ORGANIZER;CN="Ilene's Gator Store":MAILTO:info@ilenesgatorstore.com
END:VEVENT
BEGIN:VEVENT
DTSTART;TZID=America/New_York:20190719T180000
DTEND;TZID=America/New_York:20190719T210000
DTSTAMP:20260420T040505
CREATED:20190724T162958Z
LAST-MODIFIED:20190724T162958Z
UID:1321-1563559200-1563570000@shoppesatthornebrook.com
SUMMARY:Open House Friday Night for Lyn White
DESCRIPTION:Our friend\, fellow artist\, and quilter extraordinaire Lyn White is moving out of town. We’re sending her off in style with a MID-SUMMER OPEN HOUSE & HELP LYN MOVE SALE & PARTY \nMark your calendars\, bring your friends and family\, and enjoy an artful evening with light refreshments and good vibes. \nFor an extra special treat Bill Hutchinson and Jennifer Johnson\nof the band AMUSICA along with lovely and talented violinist Talia Nishida will entertain us Gentle Pop music. \nLyn will be on hand with tons of one of a kind\, hand made\, functional and fabulous works of art in fiber. Many pieces will be marked down so she doesn’t have to move them all when she heads south. \nWe look forward to seeing you there!\nSee event on Facebook
URL:https://shoppesatthornebrook.com/event/open-house-friday-night-for-lyn-white/
LOCATION:McIntyre Stained Glass Studio & Art Gallery\, 2441 NW 43rd Street\, Suite 11A\, Thornebrook Village\, Gainesville\, FL\, 32606\, United States
ATTACH;FMTTYPE=image/jpeg:https://shoppesatthornebrook.com/wp-content/uploads/2019/07/unnamed.jpg
ORGANIZER;CN="McIntyre Stained Glass Studio & Art Gallery":MAILTO:mcintyrestudio@bellsouth.net
END:VEVENT
BEGIN:VEVENT
DTSTART;TZID=America/New_York:20190609T110000
DTEND;TZID=America/New_York:20190609T170000
DTSTAMP:20260420T040505
CREATED:20190424T211710Z
LAST-MODIFIED:20190424T211710Z
UID:1251-1560078000-1560099600@shoppesatthornebrook.com
SUMMARY:Elsa & Anna's End of Spring Spa Party
DESCRIPTION:Join our Arendelle Queen and Princess for a day of pampering at Trinity’s Day Spa.  Ticket includes a manicure or pedicure\, spa facial mask\, dessert\, glass of pink lemonade\, spa robe\, and tons of photo opportunities. \n$38 per child + one adult.  Limited tickets. Only accepting 8 girls per party session. \nTicket must be pre-purchased online only at www.capesntiaras.com
URL:https://shoppesatthornebrook.com/event/elsa-annas-end-of-spring-spa-party/
LOCATION:Shoppes At Thornebrook\, 2441 NW 43rd Street\, Gainesville\, 32606\, United States
ATTACH;FMTTYPE=image/jpeg:https://shoppesatthornebrook.com/wp-content/uploads/2019/04/57852257_462035667902095_1248162795237670912_o.jpg
END:VEVENT
BEGIN:VEVENT
DTSTART;TZID=America/New_York:20190511T120000
DTEND;TZID=America/New_York:20190511T130000
DTSTAMP:20260420T040505
CREATED:20190402T194824Z
LAST-MODIFIED:20190402T194824Z
UID:1210-1557576000-1557579600@shoppesatthornebrook.com
SUMMARY:Shimmy Mob
DESCRIPTION:Join us and help an important cause. Shimmy Mob is a belly dance flash mob in Thornebrook Village Plaza to raise funds for domestic abuse victims. This includes organizations like Peaceful Paths and the Ocala Domestic Abuse Shelter.
URL:https://shoppesatthornebrook.com/event/shimmy-mob/
LOCATION:Shoppes At Thornebrook\, 2441 NW 43rd Street\, Gainesville\, 32606\, United States
ATTACH;FMTTYPE=image/png:https://shoppesatthornebrook.com/wp-content/uploads/2019/04/Shimmy-mob.png
END:VEVENT
BEGIN:VEVENT
DTSTART;TZID=America/New_York:20190511T090000
DTEND;TZID=America/New_York:20190511T120000
DTSTAMP:20260420T040505
CREATED:20190422T175840Z
LAST-MODIFIED:20190422T175944Z
UID:1247-1557565200-1557576000@shoppesatthornebrook.com
SUMMARY:Moms & Mimosas
DESCRIPTION:Join GHFC Women in celebrating Mother’s Day.  We will have an outdoor yoga class from 9-10 in the courtyard\, followed by shopping from local vendors on our deck from 10am-12pm with complimentary mimosas and treats.  \nIt’s a free event open to members and our community.
URL:https://shoppesatthornebrook.com/event/moms-mimosas/
LOCATION:Shoppes At Thornebrook\, 2441 NW 43rd Street\, Gainesville\, 32606\, United States
ATTACH;FMTTYPE=image/jpeg:https://shoppesatthornebrook.com/wp-content/uploads/2019/04/moms-tv-2.jpg
END:VEVENT
BEGIN:VEVENT
DTSTART;VALUE=DATE:20190506
DTEND;VALUE=DATE:20190511
DTSTAMP:20260420T040505
CREATED:20190426T165028Z
LAST-MODIFIED:20190426T165028Z
UID:1260-1557100800-1557532799@shoppesatthornebrook.com
SUMMARY:Teacher Appreciation Week
DESCRIPTION:Show your teachers you care!  Shoppes at Thornebrook is the perfect place to find that small token of appreciation – from mugs to chocolate\, cards and trinkets.
URL:https://shoppesatthornebrook.com/event/teacher-appreciation-week/
LOCATION:Shoppes At Thornebrook\, 2441 NW 43rd Street\, Gainesville\, 32606\, United States
END:VEVENT
BEGIN:VEVENT
DTSTART;TZID=America/New_York:20190427T130000
DTEND;TZID=America/New_York:20190427T150000
DTSTAMP:20260420T040505
CREATED:20190402T194624Z
LAST-MODIFIED:20190402T194648Z
UID:1206-1556370000-1556377200@shoppesatthornebrook.com
SUMMARY:Furniture Paint Class
DESCRIPTION:We are so happy to announce our first Vintage Furniture Paint Class At Thornbrook Village location and honored to have the creator Tammy Villegas herself here to demonstrate the process and answer all your questions. We can’t say enough about how wonderful this product is. You will learn about the paint and many techniques to use along with it such as distressing and glazing to give your furniture that farmhouse look. There will be a $10 fee per person. Refreshments will be provided. Everyone in attendance will be entered in a drawing for a free pint of paint of your choice. There will be 2 classes held this date. 1:00 and 2:00.
URL:https://shoppesatthornebrook.com/event/furniture-paint-class/
LOCATION:Shoppes At Thornebrook\, 2441 NW 43rd Street\, Gainesville\, 32606\, United States
ATTACH;FMTTYPE=image/jpeg:https://shoppesatthornebrook.com/wp-content/uploads/2018/11/15420901_1701119800199798_7302765128108715149_n-e1541268827489.jpg
END:VEVENT
BEGIN:VEVENT
DTSTART;TZID=America/New_York:20190427T120000
DTEND;TZID=America/New_York:20190427T170000
DTSTAMP:20260420T040505
CREATED:20190424T212009Z
LAST-MODIFIED:20190424T212009Z
UID:1255-1556366400-1556384400@shoppesatthornebrook.com
SUMMARY:Sip and Shop Sidewalk Sale
DESCRIPTION:Spring cleaning at Sawdust Dreams. Many items 50 to 75% off!
URL:https://shoppesatthornebrook.com/event/sip-and-shop-sidewalk-sale/
LOCATION:Shoppes At Thornebrook\, 2441 NW 43rd Street\, Gainesville\, 32606\, United States
ATTACH;FMTTYPE=image/jpeg:https://shoppesatthornebrook.com/wp-content/uploads/2019/04/57362467_2192584214386685_4050191547818311680_n.jpg
END:VEVENT
END:VCALENDAR