BEGIN:VCALENDAR
VERSION:2.0
PRODID:-//Shoppes at Thornebrook - ECPv6.15.20//NONSGML v1.0//EN
CALSCALE:GREGORIAN
METHOD:PUBLISH
X-ORIGINAL-URL:https://shoppesatthornebrook.com
X-WR-CALDESC:Events for Shoppes at Thornebrook
REFRESH-INTERVAL;VALUE=DURATION:PT1H
X-Robots-Tag:noindex
X-PUBLISHED-TTL:PT1H
BEGIN:VTIMEZONE
TZID:America/New_York
BEGIN:DAYLIGHT
TZOFFSETFROM:-0500
TZOFFSETTO:-0400
TZNAME:EDT
DTSTART:20220313T070000
END:DAYLIGHT
BEGIN:STANDARD
TZOFFSETFROM:-0400
TZOFFSETTO:-0500
TZNAME:EST
DTSTART:20221106T060000
END:STANDARD
BEGIN:DAYLIGHT
TZOFFSETFROM:-0500
TZOFFSETTO:-0400
TZNAME:EDT
DTSTART:20230312T070000
END:DAYLIGHT
BEGIN:STANDARD
TZOFFSETFROM:-0400
TZOFFSETTO:-0500
TZNAME:EST
DTSTART:20231105T060000
END:STANDARD
BEGIN:DAYLIGHT
TZOFFSETFROM:-0500
TZOFFSETTO:-0400
TZNAME:EDT
DTSTART:20240310T070000
END:DAYLIGHT
BEGIN:STANDARD
TZOFFSETFROM:-0400
TZOFFSETTO:-0500
TZNAME:EST
DTSTART:20241103T060000
END:STANDARD
END:VTIMEZONE
BEGIN:VEVENT
DTSTART;TZID=America/New_York:20231201T160000
DTEND;TZID=America/New_York:20231201T210000
DTSTAMP:20260419T150653
CREATED:20230605T024034Z
LAST-MODIFIED:20231129T164646Z
UID:3138-1701446400-1701464400@shoppesatthornebrook.com
SUMMARY:Tree Lighting and Holiday Market
DESCRIPTION:Thornebrook will be decorated in winter wonderland attire as we herald the holiday season. Celebrate with local shops and vendors\, food trucks\, and our annual tree lighting. \nAt 6pm\, the tree will be lit alongside a carol sing-a-long and Santa will arrive!  Chasing Shadows will be photographing your magical moments ($10 for your email proof). \nParticipating stores will be open late. (View the full Thornebrook Directory here – http://shoppesatthornebrook.com/directory/) \nAdditional vendors and crafters from our community include: \nA Sweeter Option\nAnd A Cookie \nBleu Rain\nThe Gainesville Pantry\nThe Mayflower Pantry\nVegan gator \nAlachua County Sheriff’s Office\nArrowsmith’s Treasures\nBeads and Baubles and Yard Art\nCats in Red Hats\nCheryl Russell Art\nChrimson Foxdon\nDapper Duck Soap Company\nDorota’s Ceramics\nEmi’s Candle Co.\nEmpower Womens Physical Therapy & Wellness\nEnso Naturals\nErrant Mush\nErnest Paturel\nEspressobeanz Art\nFarmhouse Dog Co.\nFoster Garrett Design\nGemstone Jewelry Designs\nGnome Home\nGrinning mugs\nHannele’s Stitches\nHatfield’s Treasures\nJaime Hones Art\nJenn Hartz Ceramics\nKay’s unique tumblers\nKeller Williams Realty\nLaura Lough Fiber Arts\nLittle Red Farmstead\nMade-up Gossip\nMary’s cool accessories\nMegan Garza Wellness\nMindful Explorers\nMpierre and DD ceramics\nNina Caputo Ceramics\nNot Just Beads\nPeggy Cacciabeve\nPink Tiki Glass Designs\nPlenty of Pit Bulls\nPurdy Works\nRelax Salt Rooms\nSandy Nader\nSaturday Lifestyle \nShop Primarily Yours\nSunMed- Your CBD Store\nSunshine Clay Studio\nTina’s Fiber Creations & More\nTumblers & Wreaths by Arlena\nUF Health Shands Trauma Services Department\nV Sparkles\nWp jewelry designs\nZeng’s Backyard Fun Nursery
URL:https://shoppesatthornebrook.com/event/tree-lighting-and-holiday-market/
LOCATION:Shoppes At Thornebrook\, 2441 NW 43rd Street\, Gainesville\, 32606\, United States
CATEGORIES:First Fridays
ATTACH;FMTTYPE=image/png:https://shoppesatthornebrook.com/wp-content/uploads/2023/06/Orange-And-White-Modern-Christmas-Market-FB.png
END:VEVENT
BEGIN:VEVENT
DTSTART;TZID=America/New_York:20231103T183000
DTEND;TZID=America/New_York:20231103T210000
DTSTAMP:20260419T150653
CREATED:20230420T135814Z
LAST-MODIFIED:20231031T194628Z
UID:3040-1699036200-1699045200@shoppesatthornebrook.com
SUMMARY:Thornebrook Family Movie Night
DESCRIPTION:Enjoy Disney’s Encanto in the outdoor plaza of Thornebrook! Bring your own chairs and blankets to enjoy this family-friendly free event! \nThe first 40 kids to arrive at 6:30pm can get free popcorn or a free hot chocolate. \nThere will be additional popcorn available for purchase and Classic Twist Smoothies will be on-site with smoothies\, fruit bowls\, hot chocolate\, and boiled peanuts available for sale. \nFeel free to bring your favorite snacks along too! \nShow starts at 7 PM but everyone is invited to arrive early to set up and explore our shopping center.
URL:https://shoppesatthornebrook.com/event/thornebrook-family-movie-night/
LOCATION:Shoppes At Thornebrook\, 2441 NW 43rd Street\, Gainesville\, 32606\, United States
CATEGORIES:First Fridays
ATTACH;FMTTYPE=image/png:https://shoppesatthornebrook.com/wp-content/uploads/2023/05/Movie-Facebook-Event-Cover.png
END:VEVENT
BEGIN:VEVENT
DTSTART;TZID=America/New_York:20231013T160000
DTEND;TZID=America/New_York:20231013T210000
DTSTAMP:20260419T150653
CREATED:20230801T141643Z
LAST-MODIFIED:20230809T130903Z
UID:3178-1697212800-1697230800@shoppesatthornebrook.com
SUMMARY:Friday the 13th Night Market
DESCRIPTION:Get spooky with Thornebrook on Friday the 13th!  Stroll our well-lit sidewalks for trick or treating from participating shops and vendors.  Local artisans will be showcasing their best spooky goods as you gear up for Halloween. \nVendor application – https://forms.gle/1UP6GqYDqtKgbrZL9
URL:https://shoppesatthornebrook.com/event/friday-the-13th-night-market/
LOCATION:Shoppes At Thornebrook\, 2441 NW 43rd Street\, Gainesville\, 32606\, United States
CATEGORIES:First Fridays
ATTACH;FMTTYPE=image/png:https://shoppesatthornebrook.com/wp-content/uploads/2023/08/Thornebrook-Trick-or-Treat-and-Spooky-Market-Facebook-Event-Cover-1.png
END:VEVENT
BEGIN:VEVENT
DTSTART;TZID=America/New_York:20230901T160000
DTEND;TZID=America/New_York:20230901T210000
DTSTAMP:20260419T150653
CREATED:20230801T132028Z
LAST-MODIFIED:20230801T133054Z
UID:3173-1693584000-1693602000@shoppesatthornebrook.com
SUMMARY:Thornebrook Food Truck Festival
DESCRIPTION:Our 2nd Food Truck Festival is right around the corner. Come hang out and enjoy the approaching fall weather amidst a variety of food trucks\, live music\, and retail pop-ups. Seating will be provided but feel free to bring your own comfy chairs and blankets. In our effort to promote sustainability within our center\, this will be a green event. \nInterested in becoming a vendor for our food truck rally? Apply Here
URL:https://shoppesatthornebrook.com/event/thornebrook-food-truck-festival-2/
LOCATION:Shoppes At Thornebrook\, 2441 NW 43rd Street\, Gainesville\, 32606\, United States
CATEGORIES:First Fridays
ATTACH;FMTTYPE=image/png:https://shoppesatthornebrook.com/wp-content/uploads/2023/08/sept-food-truck-rally-Facebook-Event-Cover.png
END:VEVENT
BEGIN:VEVENT
DTSTART;TZID=America/New_York:20230805T100000
DTEND;TZID=America/New_York:20230805T170000
DTSTAMP:20260419T150653
CREATED:20230628T143745Z
LAST-MODIFIED:20230720T014047Z
UID:3146-1691229600-1691254800@shoppesatthornebrook.com
SUMMARY:Thornebrook KIDS ACTIVITY FAIRE
DESCRIPTION:Stroll the sidewalks of the Shoppes at Thornebrook as you meet with and learn about the many different after school activities and programs for kids available in our area. \n\nExtracurricular activities include sports\, martial arts\, music\, art\, performing arts and STEM as well as others.\nSit back and enjoy free demonstrations and performances from some of the programs in our central plaza.\nGrab lunch or a snack from one of our Food Trucks. Kids can enjoy getting free glitter tattoos and more!\nKISS 105.3 will be onsite with games and prizes. Rain or shine\, we can’t wait to see you!\n\nInterested in being a vendor? Application below: \nhttps://forms.gle/h5MmzMtXKXnztoWv6
URL:https://shoppesatthornebrook.com/event/thornebrook-kids-activity-faire/
LOCATION:Shoppes At Thornebrook\, 2441 NW 43rd Street\, Gainesville\, 32606\, United States
CATEGORIES:First Fridays
ATTACH;FMTTYPE=image/png:https://shoppesatthornebrook.com/wp-content/uploads/2023/06/chalk-and-kids-faire-Facebook-Event-Cover.png
END:VEVENT
BEGIN:VEVENT
DTSTART;TZID=America/New_York:20230804T180000
DTEND;TZID=America/New_York:20230804T200000
DTSTAMP:20260419T150653
CREATED:20230628T143505Z
LAST-MODIFIED:20230628T143505Z
UID:3143-1691172000-1691179200@shoppesatthornebrook.com
SUMMARY:Thornebrook CHALK PARTY!
DESCRIPTION:This First Friday event is free for kids of all ages! Join us for an evening of fun as we decorate the sidewalks at Shoppes at Thornebrook with chalk art. Be creative! \nYour artwork will be on display the following day in the plaza for our Kids Activity Faire! \nWhen you’re done decorating\, enjoy dinner from one of our food trucks and a sweet treat too! Sidewalk chalk will be provided so just bring your creativity and let your imagination soar! This event is weather permitting.
URL:https://shoppesatthornebrook.com/event/thornebrook-chalk-party/
LOCATION:Shoppes At Thornebrook\, 2441 NW 43rd Street\, Gainesville\, 32606\, United States
CATEGORIES:First Fridays
ATTACH;FMTTYPE=image/png:https://shoppesatthornebrook.com/wp-content/uploads/2023/06/chalk-and-kids-faire-Facebook-Event-Cover.png
END:VEVENT
BEGIN:VEVENT
DTSTART;TZID=America/New_York:20230707T160000
DTEND;TZID=America/New_York:20230707T210000
DTSTAMP:20260419T150653
CREATED:20230517T013743Z
LAST-MODIFIED:20230703T030211Z
UID:3116-1688745600-1688763600@shoppesatthornebrook.com
SUMMARY:Thornebrook Food Truck Festival
DESCRIPTION:Come hang out and enjoy a variety of food trucks\, live music\, and retail pop-ups at our Food Truck Festival!\n\nSeating will be provided but feel free to bring your own comfy chairs and blankets.\n\nIn our effort to promote sustainability within our center\, this will be a green event.\n\nConfirmed vendors include: \nVegan Gator\nFrenchmen Street Food\nThe Traveling Bean\nRollin Sliders\ndestiny fish\nVan Pelt Family Bakery\nBaked Vegan\nThe Mayflower Pantry \nLifeSouth Community Blood Centers \nSamm Wehman Art\nFoster Garrett Design (formally Design By JessAnne)\nCampus to Coast Realty\nWp jewelry designs\nSunshine Clay Studio\nRelax Salt Rooms\nRemarkable Blooms\nEmi’s Candle Co.\nGemstone Jewelry Designs\nLotus 2 Jewel\nAll American Gutter Protection\nMindful Explorers\nAdventures of Eco-Gal \n\n\nInterested in becoming a vendor for our food truck rally? Apply Here
URL:https://shoppesatthornebrook.com/event/thornebrook-food-truck-festival/
LOCATION:Shoppes At Thornebrook\, 2441 NW 43rd Street\, Gainesville\, 32606\, United States
CATEGORIES:First Fridays
ATTACH;FMTTYPE=image/png:https://shoppesatthornebrook.com/wp-content/uploads/2023/05/food-truck-rally-Facebook-Event-Cover.png
END:VEVENT
END:VCALENDAR