BEGIN:VCALENDAR
VERSION:2.0
PRODID:-//Shoppes at Thornebrook - ECPv6.15.20//NONSGML v1.0//EN
CALSCALE:GREGORIAN
METHOD:PUBLISH
X-ORIGINAL-URL:https://shoppesatthornebrook.com
X-WR-CALDESC:Events for Shoppes at Thornebrook
REFRESH-INTERVAL;VALUE=DURATION:PT1H
X-Robots-Tag:noindex
X-PUBLISHED-TTL:PT1H
BEGIN:VTIMEZONE
TZID:America/New_York
BEGIN:DAYLIGHT
TZOFFSETFROM:-0500
TZOFFSETTO:-0400
TZNAME:EDT
DTSTART:20250309T070000
END:DAYLIGHT
BEGIN:STANDARD
TZOFFSETFROM:-0400
TZOFFSETTO:-0500
TZNAME:EST
DTSTART:20251102T060000
END:STANDARD
BEGIN:DAYLIGHT
TZOFFSETFROM:-0500
TZOFFSETTO:-0400
TZNAME:EDT
DTSTART:20260308T070000
END:DAYLIGHT
BEGIN:STANDARD
TZOFFSETFROM:-0400
TZOFFSETTO:-0500
TZNAME:EST
DTSTART:20261101T060000
END:STANDARD
BEGIN:DAYLIGHT
TZOFFSETFROM:-0500
TZOFFSETTO:-0400
TZNAME:EDT
DTSTART:20270314T070000
END:DAYLIGHT
BEGIN:STANDARD
TZOFFSETFROM:-0400
TZOFFSETTO:-0500
TZNAME:EST
DTSTART:20271107T060000
END:STANDARD
END:VTIMEZONE
BEGIN:VEVENT
DTSTART;TZID=America/New_York:20260328T100000
DTEND;TZID=America/New_York:20260328T140000
DTSTAMP:20260420T062620
CREATED:20260303T162546Z
LAST-MODIFIED:20260303T162546Z
UID:3566-1774692000-1774706400@shoppesatthornebrook.com
SUMMARY:Spring Market at The Shoppes at Thornebrook
DESCRIPTION:Fun for the whole family at the Shoppes at Thornebrook! Our Spring Market features a pop-ups from your favorite local crafters and vendors\, food trucks\, inflatable fun and live performances! Enjoy the park-like setting of our plaza as you stroll through the shops and vendor booths — and feel free to bring chairs or a blanket and make a picnic of the day!\n\nInterested in being a vendor? Apply here:https://forms.gle/uYk9o9z4VsuAYVSC7\n\nPlease remember Google Forms is the ONLY way to apply for our events! We will never ask for your personal information via social media messenger.
URL:https://shoppesatthornebrook.com/event/spring-market-at-the-shoppes-at-thornebrook-2026/
LOCATION:Shoppes At Thornebrook\, 2441 NW 43rd Street\, Gainesville\, 32606\, United States
ATTACH;FMTTYPE=image/png:https://shoppesatthornebrook.com/wp-content/uploads/2026/03/SpringMarket2026.png
END:VEVENT
END:VCALENDAR