BEGIN:VCALENDAR
VERSION:2.0
PRODID:-//Shoppes at Thornebrook - ECPv6.15.20//NONSGML v1.0//EN
CALSCALE:GREGORIAN
METHOD:PUBLISH
X-ORIGINAL-URL:https://shoppesatthornebrook.com
X-WR-CALDESC:Events for Shoppes at Thornebrook
REFRESH-INTERVAL;VALUE=DURATION:PT1H
X-Robots-Tag:noindex
X-PUBLISHED-TTL:PT1H
BEGIN:VTIMEZONE
TZID:America/New_York
BEGIN:DAYLIGHT
TZOFFSETFROM:-0500
TZOFFSETTO:-0400
TZNAME:EDT
DTSTART:20240310T070000
END:DAYLIGHT
BEGIN:STANDARD
TZOFFSETFROM:-0400
TZOFFSETTO:-0500
TZNAME:EST
DTSTART:20241103T060000
END:STANDARD
BEGIN:DAYLIGHT
TZOFFSETFROM:-0500
TZOFFSETTO:-0400
TZNAME:EDT
DTSTART:20250309T070000
END:DAYLIGHT
BEGIN:STANDARD
TZOFFSETFROM:-0400
TZOFFSETTO:-0500
TZNAME:EST
DTSTART:20251102T060000
END:STANDARD
BEGIN:DAYLIGHT
TZOFFSETFROM:-0500
TZOFFSETTO:-0400
TZNAME:EDT
DTSTART:20260308T070000
END:DAYLIGHT
BEGIN:STANDARD
TZOFFSETFROM:-0400
TZOFFSETTO:-0500
TZNAME:EST
DTSTART:20261101T060000
END:STANDARD
END:VTIMEZONE
BEGIN:VEVENT
DTSTART;TZID=America/New_York:20251024T170000
DTEND;TZID=America/New_York:20251024T200000
DTSTAMP:20260420T104803
CREATED:20240228T140442Z
LAST-MODIFIED:20250829T233947Z
UID:3323-1761325200-1761336000@shoppesatthornebrook.com
SUMMARY:Trick or Treat at The Shoppes at Thornebrook
DESCRIPTION:Get spooky with Thornebrook! Stroll our well-lit sidewalks for trick or treating from participating shops and vendors. Local  vendors will be showcasing their best spooky goods as you gear up for Halloween.\n\nKiss 105.3 will be bringing the fun and some awesome prizes!\n\n\nVendor Applications are now open: https://forms.gle/NbzvstMX9M356xNBA\nPlease note this vendor application is the ONLY way to apply for our events. Beware of scammers misrepresenting themselves on social media!
URL:https://shoppesatthornebrook.com/event/trick-or-treat-at-the-shoppes-at-thornebrook/
LOCATION:Shoppes At Thornebrook\, 2441 NW 43rd Street\, Gainesville\, 32606\, United States
ATTACH;FMTTYPE=image/png:https://shoppesatthornebrook.com/wp-content/uploads/2024/02/Screen-Shot-2025-06-20-at-5.25.42-PM.png
END:VEVENT
END:VCALENDAR