BEGIN:VCALENDAR
VERSION:2.0
PRODID:-//Shoppes at Thornebrook - ECPv6.15.20//NONSGML v1.0//EN
CALSCALE:GREGORIAN
METHOD:PUBLISH
X-ORIGINAL-URL:https://shoppesatthornebrook.com
X-WR-CALDESC:Events for Shoppes at Thornebrook
REFRESH-INTERVAL;VALUE=DURATION:PT1H
X-Robots-Tag:noindex
X-PUBLISHED-TTL:PT1H
BEGIN:VTIMEZONE
TZID:America/New_York
BEGIN:DAYLIGHT
TZOFFSETFROM:-0500
TZOFFSETTO:-0400
TZNAME:EDT
DTSTART:20240310T070000
END:DAYLIGHT
BEGIN:STANDARD
TZOFFSETFROM:-0400
TZOFFSETTO:-0500
TZNAME:EST
DTSTART:20241103T060000
END:STANDARD
BEGIN:DAYLIGHT
TZOFFSETFROM:-0500
TZOFFSETTO:-0400
TZNAME:EDT
DTSTART:20250309T070000
END:DAYLIGHT
BEGIN:STANDARD
TZOFFSETFROM:-0400
TZOFFSETTO:-0500
TZNAME:EST
DTSTART:20251102T060000
END:STANDARD
BEGIN:DAYLIGHT
TZOFFSETFROM:-0500
TZOFFSETTO:-0400
TZNAME:EDT
DTSTART:20260308T070000
END:DAYLIGHT
BEGIN:STANDARD
TZOFFSETFROM:-0400
TZOFFSETTO:-0500
TZNAME:EST
DTSTART:20261101T060000
END:STANDARD
END:VTIMEZONE
BEGIN:VEVENT
DTSTART;VALUE=DATE:20251011
DTEND;VALUE=DATE:20251013
DTSTAMP:20260420T062607
CREATED:20240221T002438Z
LAST-MODIFIED:20250316T194758Z
UID:3315-1760140800-1760313599@shoppesatthornebrook.com
SUMMARY:40th Annual Fall Arts Festival
DESCRIPTION:Experience the Magic of Art in the Heart of Gainesville\n\n\nGet ready for a weekend of art and fun as Thornebrook’s Fall Arts Festival returns for its 40th year. This Gainesville tradition will once again transform the picturesque Shoppes At Thornebrook into a vibrant hub of creativity and culture.\n\nMany of your favorite artists will be returning and we will welcome some new faces too! Kiss 105.3 will be broadcasting live on site both days!\n\nArt on display includes painting\, sculpture\, photography\, glass works\, fiber arts\, wood carvings\, pottery\, jewelry\, and more.The show is laid out to take advantage of the ambiance and convenience of the Shoppes at Thornebrook and its stores\, restaurants\, and other amenities.\n\nDining options include Thornebrook favorites: Bageland\, Esperanza’s\, Mini Momo\, and Thornebrook Chocolates. There will be additional food truck vendors as well!\n\nJoin us on October 11th & 12th\, from 10 AM to 5 PM\, both Saturday and Sunday. It’s a weekend of artistic inspiration\, culinary delights\, and community spirit you won’t want to miss!\n\nDon’t miss the opportunity to celebrate the arts and support talented local artists. We can’t wait to see you there!\n\nInterested Artists please use this Google Forms link to apply.https://forms.gle/AAQhEvoAiTA91D1i6\nPlease note\, this is the only way to apply for our events. Beware of online scams!\n\n  \nArtists can find some Frequently Asked Questions here.
URL:https://shoppesatthornebrook.com/event/fallarts2024/
LOCATION:Shoppes At Thornebrook\, 2441 NW 43rd Street\, Gainesville\, 32606\, United States
ATTACH;FMTTYPE=image/png:https://shoppesatthornebrook.com/wp-content/uploads/2024/02/ThornebrookCoverFall2025.png
END:VEVENT
END:VCALENDAR