BEGIN:VCALENDAR
VERSION:2.0
PRODID:-//Shoppes at Thornebrook - ECPv6.15.20//NONSGML v1.0//EN
CALSCALE:GREGORIAN
METHOD:PUBLISH
X-WR-CALNAME:Shoppes at Thornebrook
X-ORIGINAL-URL:https://shoppesatthornebrook.com
X-WR-CALDESC:Events for Shoppes at Thornebrook
REFRESH-INTERVAL;VALUE=DURATION:PT1H
X-Robots-Tag:noindex
X-PUBLISHED-TTL:PT1H
BEGIN:VTIMEZONE
TZID:America/New_York
BEGIN:DAYLIGHT
TZOFFSETFROM:-0500
TZOFFSETTO:-0400
TZNAME:EDT
DTSTART:20210314T070000
END:DAYLIGHT
BEGIN:STANDARD
TZOFFSETFROM:-0400
TZOFFSETTO:-0500
TZNAME:EST
DTSTART:20211107T060000
END:STANDARD
BEGIN:DAYLIGHT
TZOFFSETFROM:-0500
TZOFFSETTO:-0400
TZNAME:EDT
DTSTART:20220313T070000
END:DAYLIGHT
BEGIN:STANDARD
TZOFFSETFROM:-0400
TZOFFSETTO:-0500
TZNAME:EST
DTSTART:20221106T060000
END:STANDARD
BEGIN:DAYLIGHT
TZOFFSETFROM:-0500
TZOFFSETTO:-0400
TZNAME:EDT
DTSTART:20230312T070000
END:DAYLIGHT
BEGIN:STANDARD
TZOFFSETFROM:-0400
TZOFFSETTO:-0500
TZNAME:EST
DTSTART:20231105T060000
END:STANDARD
END:VTIMEZONE
BEGIN:VEVENT
DTSTART;TZID=America/New_York:20221117T080000
DTEND;TZID=America/New_York:20221119T200000
DTSTAMP:20260420T085514
CREATED:20221112T135704Z
LAST-MODIFIED:20221112T135704Z
UID:2902-1668672000-1668888000@shoppesatthornebrook.com
SUMMARY:Pre Black Friday Sale at Hoggtowne Music
DESCRIPTION:Entire Store on sale! up to 70% OFF certain items. Sale ends Saturday at 8:00 p.m.
URL:https://shoppesatthornebrook.com/event/pre-black-friday-sale-at-hoggtowne-music/
LOCATION:Hoggtowne Music\, 2441 NW 43rd Street STE 26B\, Gainesville\, FL\, 32605\, United States
ATTACH;FMTTYPE=image/jpeg:https://shoppesatthornebrook.com/wp-content/uploads/2022/11/315128850_577980837662066_7292275954931936508_n.jpeg
END:VEVENT
BEGIN:VEVENT
DTSTART;TZID=America/New_York:20221119T170000
DTEND;TZID=America/New_York:20221119T190000
DTSTAMP:20260420T085514
CREATED:20221014T153341Z
LAST-MODIFIED:20221108T210414Z
UID:2834-1668877200-1668884400@shoppesatthornebrook.com
SUMMARY:31st Annual Tree Lighting
DESCRIPTION:Put on your favorite sweater and join us as we celebrate the arrival of the Holiday Season with our annual tree lighting.
URL:https://shoppesatthornebrook.com/event/31st-annual-tree-lighting/
ATTACH;FMTTYPE=image/png:https://shoppesatthornebrook.com/wp-content/uploads/2022/10/31st-Annual-Tree-Lighting-at-Thornebrook.png
END:VEVENT
END:VCALENDAR