BEGIN:VCALENDAR
VERSION:2.0
PRODID:-//Shoppes at Thornebrook - ECPv6.15.20//NONSGML v1.0//EN
CALSCALE:GREGORIAN
METHOD:PUBLISH
X-WR-CALNAME:Shoppes at Thornebrook
X-ORIGINAL-URL:https://shoppesatthornebrook.com
X-WR-CALDESC:Events for Shoppes at Thornebrook
REFRESH-INTERVAL;VALUE=DURATION:PT1H
X-Robots-Tag:noindex
X-PUBLISHED-TTL:PT1H
BEGIN:VTIMEZONE
TZID:America/New_York
BEGIN:DAYLIGHT
TZOFFSETFROM:-0500
TZOFFSETTO:-0400
TZNAME:EDT
DTSTART:20210314T070000
END:DAYLIGHT
BEGIN:STANDARD
TZOFFSETFROM:-0400
TZOFFSETTO:-0500
TZNAME:EST
DTSTART:20211107T060000
END:STANDARD
BEGIN:DAYLIGHT
TZOFFSETFROM:-0500
TZOFFSETTO:-0400
TZNAME:EDT
DTSTART:20220313T070000
END:DAYLIGHT
BEGIN:STANDARD
TZOFFSETFROM:-0400
TZOFFSETTO:-0500
TZNAME:EST
DTSTART:20221106T060000
END:STANDARD
BEGIN:DAYLIGHT
TZOFFSETFROM:-0500
TZOFFSETTO:-0400
TZNAME:EDT
DTSTART:20230312T070000
END:DAYLIGHT
BEGIN:STANDARD
TZOFFSETFROM:-0400
TZOFFSETTO:-0500
TZNAME:EST
DTSTART:20231105T060000
END:STANDARD
END:VTIMEZONE
BEGIN:VEVENT
DTSTART;TZID=America/New_York:20221022T100000
DTEND;TZID=America/New_York:20221023T170000
DTSTAMP:20260420T101608
CREATED:20220908T175759Z
LAST-MODIFIED:20231123T034242Z
UID:2743-1666432800-1666544400@shoppesatthornebrook.com
SUMMARY:2022 Thornebrook Fall Arts Festival
DESCRIPTION:This event has passed. See upcoming events. \n75 fine artists and craftsmen will be exhibiting October 22-23\, 2022 in Gainesville\, FL throughout the park-like setting of Shoppes At Thornebrook. A Gainesville tradition\, this festival is entering its 37th year. Many of your local favorites and new faces are coming to enhance your enjoyment of the show. There will be painting of all kinds\, sculpture\, photography of the familiar and the exotic\, mixed media from fused glass to paintings with additions\, fiber arts\, wood carvings and furniture\, pottery and jewelry – some with gold\, silver\, and precious gems to beach glass and stones. Show is laid out to take advantage of the ambiance and convenience of Shoppes at Thornebrook Square and it’s stores\, restaurants\, and other amenities. \nThere will be lots of good food – including festival fare such as kettle korn and food trucks. Enjoy the soups\, sandwiches\, and salads of Formaggios and Bageland\, the Latin fusion at Cintron\, and handmade chocolates and gelato from Thornebrook Chocolates.
URL:https://shoppesatthornebrook.com/event/thornebrook-fall-arts-festival/
LOCATION:Shoppes At Thornebrook\, 2441 NW 43rd Street\, Gainesville\, 32606\, United States
ATTACH;FMTTYPE=image/png:https://shoppesatthornebrook.com/wp-content/uploads/2022/09/Fall-Arts-Festival-2022-Facebook-Event-Cover-2.png
END:VEVENT
END:VCALENDAR