BEGIN:VCALENDAR
VERSION:2.0
PRODID:-//Shoppes at Thornebrook - ECPv6.15.20//NONSGML v1.0//EN
CALSCALE:GREGORIAN
METHOD:PUBLISH
X-ORIGINAL-URL:https://shoppesatthornebrook.com
X-WR-CALDESC:Events for Shoppes at Thornebrook
REFRESH-INTERVAL;VALUE=DURATION:PT1H
X-Robots-Tag:noindex
X-PUBLISHED-TTL:PT1H
BEGIN:VTIMEZONE
TZID:America/New_York
BEGIN:DAYLIGHT
TZOFFSETFROM:-0500
TZOFFSETTO:-0400
TZNAME:EDT
DTSTART:20200308T070000
END:DAYLIGHT
BEGIN:STANDARD
TZOFFSETFROM:-0400
TZOFFSETTO:-0500
TZNAME:EST
DTSTART:20201101T060000
END:STANDARD
BEGIN:DAYLIGHT
TZOFFSETFROM:-0500
TZOFFSETTO:-0400
TZNAME:EDT
DTSTART:20210314T070000
END:DAYLIGHT
BEGIN:STANDARD
TZOFFSETFROM:-0400
TZOFFSETTO:-0500
TZNAME:EST
DTSTART:20211107T060000
END:STANDARD
BEGIN:DAYLIGHT
TZOFFSETFROM:-0500
TZOFFSETTO:-0400
TZNAME:EDT
DTSTART:20220313T070000
END:DAYLIGHT
BEGIN:STANDARD
TZOFFSETFROM:-0400
TZOFFSETTO:-0500
TZNAME:EST
DTSTART:20221106T060000
END:STANDARD
END:VTIMEZONE
BEGIN:VEVENT
DTSTART;TZID=America/New_York:20211120T170000
DTEND;TZID=America/New_York:20211120T190000
DTSTAMP:20260421T010400
CREATED:20211112T212004Z
LAST-MODIFIED:20211112T212004Z
UID:1883-1637427600-1637434800@shoppesatthornebrook.com
SUMMARY:30th Annual Tree Lighting
DESCRIPTION:Put on your favorite sweater and join us for hot cocoa\, cookies\, and caroling  as we celebrate the arrival of the Holiday Season with our annual tree lighting.\nHoggtowne Music students will perform and all are welcome to join in group Christmas caroling.\nDo Art With Yopp! will have an ornament decorating station \n\nRSVP on Facebook
URL:https://shoppesatthornebrook.com/event/30th-annual-tree-lighting/
LOCATION:Shoppes At Thornebrook\, 2441 NW 43rd Street\, Gainesville\, 32606\, United States
ATTACH;FMTTYPE=image/png:https://shoppesatthornebrook.com/wp-content/uploads/2021/11/Copy-of-36th-Annual-ART-FESTIVAL-Facebook-Cover-Instagram-Post.png
END:VEVENT
END:VCALENDAR