BEGIN:VCALENDAR
VERSION:2.0
PRODID:-//Shoppes at Thornebrook - ECPv6.15.20//NONSGML v1.0//EN
CALSCALE:GREGORIAN
METHOD:PUBLISH
X-ORIGINAL-URL:https://shoppesatthornebrook.com
X-WR-CALDESC:Events for Shoppes at Thornebrook
REFRESH-INTERVAL;VALUE=DURATION:PT1H
X-Robots-Tag:noindex
X-PUBLISHED-TTL:PT1H
BEGIN:VTIMEZONE
TZID:America/New_York
BEGIN:DAYLIGHT
TZOFFSETFROM:-0500
TZOFFSETTO:-0400
TZNAME:EDT
DTSTART:20200308T070000
END:DAYLIGHT
BEGIN:STANDARD
TZOFFSETFROM:-0400
TZOFFSETTO:-0500
TZNAME:EST
DTSTART:20201101T060000
END:STANDARD
BEGIN:DAYLIGHT
TZOFFSETFROM:-0500
TZOFFSETTO:-0400
TZNAME:EDT
DTSTART:20210314T070000
END:DAYLIGHT
BEGIN:STANDARD
TZOFFSETFROM:-0400
TZOFFSETTO:-0500
TZNAME:EST
DTSTART:20211107T060000
END:STANDARD
BEGIN:DAYLIGHT
TZOFFSETFROM:-0500
TZOFFSETTO:-0400
TZNAME:EDT
DTSTART:20220313T070000
END:DAYLIGHT
BEGIN:STANDARD
TZOFFSETFROM:-0400
TZOFFSETTO:-0500
TZNAME:EST
DTSTART:20221106T060000
END:STANDARD
END:VTIMEZONE
BEGIN:VEVENT
DTSTART;TZID=America/New_York:20211119T150000
DTEND;TZID=America/New_York:20211119T190000
DTSTAMP:20260421T010359
CREATED:20211117T152258Z
LAST-MODIFIED:20211117T152258Z
UID:1887-1637334000-1637348400@shoppesatthornebrook.com
SUMMARY:Shop and Support MOMS
DESCRIPTION:The Junior League of Gainesville is hosting a Shop and Support event at ilene’s gator store. 🐊 Mark your calendars\, and come pick out a new gameday outfit. 10% of all sales will be donated to the Junior League of Gainesville. \nThe Junior League of Gainesville\, Florida\, Inc. is an organization of women committed to promoting voluntarism\, developing the potential of women\, and improving communities through the effective action and leadership of trained volunteers.
URL:https://shoppesatthornebrook.com/event/shop-and-support-moms/
LOCATION:Ilene’s Gator Store\, 2441 NW 43rd St\, #19\, Thornebrook Village\, Gainesville\, FL\, 32606\, United States
ATTACH;FMTTYPE=image/png:https://shoppesatthornebrook.com/wp-content/uploads/2021/11/Complimentary-Gift-Wrapping-1.png
ORGANIZER;CN="Ilene's Gator Store":MAILTO:info@ilenesgatorstore.com
END:VEVENT
END:VCALENDAR