BEGIN:VCALENDAR
VERSION:2.0
PRODID:-//Shoppes at Thornebrook - ECPv6.15.20//NONSGML v1.0//EN
CALSCALE:GREGORIAN
METHOD:PUBLISH
X-WR-CALNAME:Shoppes at Thornebrook
X-ORIGINAL-URL:https://shoppesatthornebrook.com
X-WR-CALDESC:Events for Shoppes at Thornebrook
REFRESH-INTERVAL;VALUE=DURATION:PT1H
X-Robots-Tag:noindex
X-PUBLISHED-TTL:PT1H
BEGIN:VTIMEZONE
TZID:America/New_York
BEGIN:DAYLIGHT
TZOFFSETFROM:-0500
TZOFFSETTO:-0400
TZNAME:EDT
DTSTART:20200308T070000
END:DAYLIGHT
BEGIN:STANDARD
TZOFFSETFROM:-0400
TZOFFSETTO:-0500
TZNAME:EST
DTSTART:20201101T060000
END:STANDARD
BEGIN:DAYLIGHT
TZOFFSETFROM:-0500
TZOFFSETTO:-0400
TZNAME:EDT
DTSTART:20210314T070000
END:DAYLIGHT
BEGIN:STANDARD
TZOFFSETFROM:-0400
TZOFFSETTO:-0500
TZNAME:EST
DTSTART:20211107T060000
END:STANDARD
BEGIN:DAYLIGHT
TZOFFSETFROM:-0500
TZOFFSETTO:-0400
TZNAME:EDT
DTSTART:20220313T070000
END:DAYLIGHT
BEGIN:STANDARD
TZOFFSETFROM:-0400
TZOFFSETTO:-0500
TZNAME:EST
DTSTART:20221106T060000
END:STANDARD
END:VTIMEZONE
BEGIN:VEVENT
DTSTART;TZID=America/New_York:20210327T100000
DTEND;TZID=America/New_York:20210327T140000
DTSTAMP:20260421T112613
CREATED:20210215T152817Z
LAST-MODIFIED:20210215T152817Z
UID:1755-1616839200-1616853600@shoppesatthornebrook.com
SUMMARY:Where the Sidewalk Ends Art Fest
DESCRIPTION:In honor of youth art month\, Do Art with Yopp and Fun 4 Gator Kids are hosting a family-friendly festival in the Shoppes At Thornebrook square!  Music\, food\, and fun activities for kids!  More details coming soon.
URL:https://shoppesatthornebrook.com/event/where-the-sidewalk-ends-art-fest/
LOCATION:Shoppes At Thornebrook\, 2441 NW 43rd Street\, Gainesville\, 32606\, United States
ATTACH;FMTTYPE=image/jpeg:https://shoppesatthornebrook.com/wp-content/uploads/2021/02/WTSE21Poster-scaled.jpg
END:VEVENT
END:VCALENDAR