BEGIN:VCALENDAR
VERSION:2.0
PRODID:-//Shoppes at Thornebrook - ECPv6.15.20//NONSGML v1.0//EN
CALSCALE:GREGORIAN
METHOD:PUBLISH
X-ORIGINAL-URL:https://shoppesatthornebrook.com
X-WR-CALDESC:Events for Shoppes at Thornebrook
REFRESH-INTERVAL;VALUE=DURATION:PT1H
X-Robots-Tag:noindex
X-PUBLISHED-TTL:PT1H
BEGIN:VTIMEZONE
TZID:America/New_York
BEGIN:DAYLIGHT
TZOFFSETFROM:-0500
TZOFFSETTO:-0400
TZNAME:EDT
DTSTART:20200308T070000
END:DAYLIGHT
BEGIN:STANDARD
TZOFFSETFROM:-0400
TZOFFSETTO:-0500
TZNAME:EST
DTSTART:20201101T060000
END:STANDARD
BEGIN:DAYLIGHT
TZOFFSETFROM:-0500
TZOFFSETTO:-0400
TZNAME:EDT
DTSTART:20210314T070000
END:DAYLIGHT
BEGIN:STANDARD
TZOFFSETFROM:-0400
TZOFFSETTO:-0500
TZNAME:EST
DTSTART:20211107T060000
END:STANDARD
BEGIN:DAYLIGHT
TZOFFSETFROM:-0500
TZOFFSETTO:-0400
TZNAME:EDT
DTSTART:20220313T070000
END:DAYLIGHT
BEGIN:STANDARD
TZOFFSETFROM:-0400
TZOFFSETTO:-0500
TZNAME:EST
DTSTART:20221106T060000
END:STANDARD
END:VTIMEZONE
BEGIN:VEVENT
DTSTART;TZID=America/New_York:20210124T000000
DTEND;TZID=America/New_York:20210130T233000
DTSTAMP:20260421T141937
CREATED:20210127T174140Z
LAST-MODIFIED:20210127T174140Z
UID:1739-1611446400-1612049400@shoppesatthornebrook.com
SUMMARY:Zero Waste Week 2021
DESCRIPTION:**UPDATE – Everyone who registers will get a link to watch The Story of Plastic**\nZero Waste Week 2021\nNothing in Nature is Wasted\nZero Waste Week 2021\, presented by Zero Waste Gainesville\, The Repurpose Project\, and Life Unplastic\, is January 24 through January 30 and will be a week of education\, action items\, and solutions pertaining to different aspects of Zero Waste to not only educate our community about Zero Waste principles\, but also get us on a collective path towards achieving those goals.\nThe theme of this year’s Zero Waste Week is Nothing in Nature is Wasted. In the natural world\, resources are continuously used and reused as organisms and nutrients form cycles and improve their ecosystems – thus nothing is waste.\nDay 1 – January 24th – We appreciate and acknowledge that everything we use and eat are resources that come from the earth and in nature nothing is wasted\nDay 2 – January 25th – Waste Audit – We encourage everyone to conduct a waste audit –\nDay 3 – January 26th – Reduce Wasted Food & Commit to Compost\n*Live ZOOM presentation on Reduce Food Waste and Composting https://fb.me/e/3H2MiJVBo\nDay 4 – January 27th – Reject – reject items that don’t fit into Zero Waste\nDay 5 – January 28th – Reduce – commit to reducing landfill trash\nDay 6 – January 29th – Reuse – commit to buying used and using reusables\n*Buy Used Day – event – https://fb.me/e/205DVfzE5\nDay 7- January 30th – Research – buy less\, buy durable\, research purchases\n**Register for Zero Waste Week by filling out this Google Form.**\nhttps://forms.gle/tjhgZ4EBHwt8gAQJ9\n**Everyone who registers will receive a coupon code to LifeUnplastic\, which is Gainesville’s local low packaging\, sustainable store**\nOnce registered you will receive a newsletter daily for 7 days during January 24th – January 30th\, receive a discount code to Life Unplastic\, receive a ZOOM link to a live presentation on Food Waste and Composting\, and receive a link to watch The Story of Plastic!\nDaily posts will be on Zero Waste Gainesville\, The Repurpose Projects\, and Life Unplastic’s facebook page and also Zero Waste Gainesville website – zerowastegainesville.com.
URL:https://shoppesatthornebrook.com/event/zero-waste-week-2021/
LOCATION:Life Unplastic\, 2441 NW 43rd St. Ste 24B-1\, Gainesville\, FL\, 32606\, United States
ATTACH;FMTTYPE=image/jpeg:https://shoppesatthornebrook.com/wp-content/uploads/2021/01/136369174_859526817953696_6926913983451452202_o.jpg
END:VEVENT
END:VCALENDAR