BEGIN:VCALENDAR
VERSION:2.0
PRODID:-//Shoppes at Thornebrook - ECPv6.15.20//NONSGML v1.0//EN
CALSCALE:GREGORIAN
METHOD:PUBLISH
X-ORIGINAL-URL:https://shoppesatthornebrook.com
X-WR-CALDESC:Events for Shoppes at Thornebrook
REFRESH-INTERVAL;VALUE=DURATION:PT1H
X-Robots-Tag:noindex
X-PUBLISHED-TTL:PT1H
BEGIN:VTIMEZONE
TZID:America/New_York
BEGIN:DAYLIGHT
TZOFFSETFROM:-0500
TZOFFSETTO:-0400
TZNAME:EDT
DTSTART:20190310T070000
END:DAYLIGHT
BEGIN:STANDARD
TZOFFSETFROM:-0400
TZOFFSETTO:-0500
TZNAME:EST
DTSTART:20191103T060000
END:STANDARD
BEGIN:DAYLIGHT
TZOFFSETFROM:-0500
TZOFFSETTO:-0400
TZNAME:EDT
DTSTART:20200308T070000
END:DAYLIGHT
BEGIN:STANDARD
TZOFFSETFROM:-0400
TZOFFSETTO:-0500
TZNAME:EST
DTSTART:20201101T060000
END:STANDARD
BEGIN:DAYLIGHT
TZOFFSETFROM:-0500
TZOFFSETTO:-0400
TZNAME:EDT
DTSTART:20210314T070000
END:DAYLIGHT
BEGIN:STANDARD
TZOFFSETFROM:-0400
TZOFFSETTO:-0500
TZNAME:EST
DTSTART:20211107T060000
END:STANDARD
END:VTIMEZONE
BEGIN:VEVENT
DTSTART;TZID=America/New_York:20201015T080000
DTEND;TZID=America/New_York:20201201T170000
DTSTAMP:20260421T171051
CREATED:20201010T152355Z
LAST-MODIFIED:20201026T170133Z
UID:1660-1602748800-1606842000@shoppesatthornebrook.com
SUMMARY:Shop Thornebrook Giveaway
DESCRIPTION:Winners will be announced after the contest ends\, the week of Dec 1st.  3 winners will receive $500 gift certificates to Shoppes At Thornebrook stores. \nFacebook event page
URL:https://shoppesatthornebrook.com/event/shop-thornebrook-giveaway/
ATTACH;FMTTYPE=image/png:https://shoppesatthornebrook.com/wp-content/uploads/2020/10/Shop-Thornebrook-Giveaway-1.png
END:VEVENT
END:VCALENDAR