BEGIN:VCALENDAR
VERSION:2.0
PRODID:-//Shoppes at Thornebrook - ECPv6.15.20//NONSGML v1.0//EN
CALSCALE:GREGORIAN
METHOD:PUBLISH
X-ORIGINAL-URL:https://shoppesatthornebrook.com
X-WR-CALDESC:Events for Shoppes at Thornebrook
REFRESH-INTERVAL;VALUE=DURATION:PT1H
X-Robots-Tag:noindex
X-PUBLISHED-TTL:PT1H
BEGIN:VTIMEZONE
TZID:America/New_York
BEGIN:DAYLIGHT
TZOFFSETFROM:-0500
TZOFFSETTO:-0400
TZNAME:EDT
DTSTART:20190310T070000
END:DAYLIGHT
BEGIN:STANDARD
TZOFFSETFROM:-0400
TZOFFSETTO:-0500
TZNAME:EST
DTSTART:20191103T060000
END:STANDARD
BEGIN:DAYLIGHT
TZOFFSETFROM:-0500
TZOFFSETTO:-0400
TZNAME:EDT
DTSTART:20200308T070000
END:DAYLIGHT
BEGIN:STANDARD
TZOFFSETFROM:-0400
TZOFFSETTO:-0500
TZNAME:EST
DTSTART:20201101T060000
END:STANDARD
BEGIN:DAYLIGHT
TZOFFSETFROM:-0500
TZOFFSETTO:-0400
TZNAME:EDT
DTSTART:20210314T070000
END:DAYLIGHT
BEGIN:STANDARD
TZOFFSETFROM:-0400
TZOFFSETTO:-0500
TZNAME:EST
DTSTART:20211107T060000
END:STANDARD
END:VTIMEZONE
BEGIN:VEVENT
DTSTART;VALUE=DATE:20200501
DTEND;VALUE=DATE:20200507
DTSTAMP:20260422T002609
CREATED:20200502T145742Z
LAST-MODIFIED:20200502T145929Z
UID:1553-1588291200-1588809599@shoppesatthornebrook.com
SUMMARY:Mother's Day - Gift Local
DESCRIPTION:Mother’s Day is May 10th.  Our shops have been working to bring you gift options that are easily purchased online.  Consider supporting your local businesses with one of the following Mother’s Day gifts (and share this with others looking for gift ideas): \nLife Unplastic – Shop online at Life Unplastic’s website and pick up at the store.  Questions? Call (352) 225-3116 \nThornebrook Gallery – Shop online at Thornebrook Gallery’s website. Free delivery on all jewelry orders.  Questions? Call (352) 378-4947 \nIlene’s Gator Store – Shop online at https://www.ilenesgatorstore.com/. Free shipping on all orders.  Sales updated every day.  Questions? Call 352-378-1611 \nMalgorzata’s – Select inventory is now available for order online.  Visit Malgorzata’s website to see available inventory. To order please call 352-215-8689 or 352-428-3477. Follow Malgorzata’s Facebook page for updates. \nBrittany’s Fine Jewelry – Jewelry is available to order online. Visit Brittany’s Fine Jewelry website to see the selection. \nThornebrook Chocolates – Browse the menu online. Then choose your service option:1. Take Out: One person at a time in the store\, while staff gathers your selected items. We are your personal shoppers!2. Curbside: Order placed and charged by credit card via phone 352-371-0800. Please then call when you arrive\, and we will bring it to your vehicle!3. Delivery: Some options are available through UberEATS. We may be able to make a delivery to you ourselves if located in the City of Gainesville. Please send a message with specific questions/locations. \nFloating Lotus Therapeutic Spa & Health Center – Gift certificates and membership options available for purchase online.  Click here to purchase a gift certificate online.  Click here to learn about membership. \nEden Michele Salon – Gift cards are available. Call (352) 888-7528 or message them on the Eden Michele Salon Facebook page. \nVain Salon – Offering no contact delivery of retail products\, including gift cards.  Call (352) 505-6161 or send them a message on the Vain Salon Facebook page. \nMcIntyre Stained Glass Studio & Art Gallery – Call (352) 372-2752 to order a gift card in any amount. \nThornebrook At Home\nSee more ways to shop and connect online on our Thornebrook At Home page.
URL:https://shoppesatthornebrook.com/event/mothers-day-gift-local/
ATTACH;FMTTYPE=image/png:https://shoppesatthornebrook.com/wp-content/uploads/2020/04/Mothers-Day-1.png
END:VEVENT
BEGIN:VEVENT
DTSTART;TZID=America/New_York:20200502T090000
DTEND;TZID=America/New_York:20200502T150000
DTSTAMP:20260422T002609
CREATED:20200430T214829Z
LAST-MODIFIED:20200528T143356Z
UID:1549-1588410000-1588431600@shoppesatthornebrook.com
SUMMARY:Drive-Thru Farmer's Market
DESCRIPTION:QUESTIONS? Please call (352) 222-0303 or Facebook messaging Pink Panther Produce & Floral on their Facebook page. \nPink Panther Produce will be available for drive-thru purchase at Thornebrook Village Saturday\, May 2nd\, 2020 from 9:00 am – till we sell out.\nWe have expanded the availability/variety of fruits and vegetables – see below. \n***Note: We are not taking any pre-orders for this Saturday\, all produce will be first come first serve*** \nWe thank you all for your support & patients with our new & growing business. Currently\, we are a two-person operation with the help of some friends.\n(Please look for florescent signs on where to enter & exit – no need to get out of your car) \nWe will have:\n*Organic Premium Blueberries 4 lbs. $25\n*Organic Premium Blueberries 1 lb. $7.00\nPremium Strawberries 1 lb. $3.00\n*Green Cabbage each $1.00\n*Red Cabbage each $1.00\n*Broccoli Crowns 2 lbs. $3.00\n*Yellow Squash 2 lbs. $2.50\n*Zucchini Squash 2 lbs. $2.50\n*Sweet Corn 5 count $3.00\n*Green Beans 2 lbs. $3.00\n*Eggplant 2 count $3.00\n*Okra 2 lbs. $3.00\nCarrots 2 lbs. $1.00\n*Cucumbers 3 count $2.00\n*Large Vine Ripe Tomatoes each $1.00\n*Grape Tomatoes 2 lbs. $2.50\nBananas 2 lbs. $2.50\nMangoes 2 count $3.00\nPineapples each $3.00\nGala Apples 5 count $3.00\nNavel Oranges 4 lbs. $5.00\n*Red B potatoes 2 lbs. $2.50\n*Yukon Golds 2 lbs. $3.00\nLarge Red Onions 3 count $2.50\nLarge Vidalia Onions 3 count $2.50\n*Large Red Pepper 2 count $3.00\n*Large Green Pepper 2 count $3.00\nXL Lemons 3 count $3.00\nXL Limes 5 count $2.00\nCantaloupe each $3.00\n*Large Seedless Watermelon each $5.00 \n*Denotes Florida Growers\nDon’t forget to follow & like Pink Panther Produce and Floral on their Facebook Page for updates.
URL:https://shoppesatthornebrook.com/event/drive-thru-farmers-market-3/
LOCATION:Shoppes At Thornebrook\, 2441 NW 43rd Street\, Gainesville\, 32606\, United States
ATTACH;FMTTYPE=image/png:https://shoppesatthornebrook.com/wp-content/uploads/2020/04/Drive-Thru-Farmers-Market-at-Thornebrook.png
END:VEVENT
END:VCALENDAR