BEGIN:VCALENDAR
VERSION:2.0
PRODID:-//Shoppes at Thornebrook - ECPv6.15.20//NONSGML v1.0//EN
CALSCALE:GREGORIAN
METHOD:PUBLISH
X-ORIGINAL-URL:https://shoppesatthornebrook.com
X-WR-CALDESC:Events for Shoppes at Thornebrook
REFRESH-INTERVAL;VALUE=DURATION:PT1H
X-Robots-Tag:noindex
X-PUBLISHED-TTL:PT1H
BEGIN:VTIMEZONE
TZID:America/New_York
BEGIN:DAYLIGHT
TZOFFSETFROM:-0500
TZOFFSETTO:-0400
TZNAME:EDT
DTSTART:20190310T070000
END:DAYLIGHT
BEGIN:STANDARD
TZOFFSETFROM:-0400
TZOFFSETTO:-0500
TZNAME:EST
DTSTART:20191103T060000
END:STANDARD
BEGIN:DAYLIGHT
TZOFFSETFROM:-0500
TZOFFSETTO:-0400
TZNAME:EDT
DTSTART:20200308T070000
END:DAYLIGHT
BEGIN:STANDARD
TZOFFSETFROM:-0400
TZOFFSETTO:-0500
TZNAME:EST
DTSTART:20201101T060000
END:STANDARD
BEGIN:DAYLIGHT
TZOFFSETFROM:-0500
TZOFFSETTO:-0400
TZNAME:EDT
DTSTART:20210314T070000
END:DAYLIGHT
BEGIN:STANDARD
TZOFFSETFROM:-0400
TZOFFSETTO:-0500
TZNAME:EST
DTSTART:20211107T060000
END:STANDARD
END:VTIMEZONE
BEGIN:VEVENT
DTSTART;TZID=America/New_York:20200206T150000
DTEND;TZID=America/New_York:20200206T183000
DTSTAMP:20260422T041109
CREATED:20200129T163617Z
LAST-MODIFIED:20200129T163617Z
UID:1494-1581001200-1581013800@shoppesatthornebrook.com
SUMMARY:Joseph Ribkoff Special Event
DESCRIPTION:Preview the 2020 Spring and Summer Collections from Montreal Designer Joseph Ribkoff\nRepresentative Kara is available to assist you in special ordering your new Joseph Ribkoff Selections    \nAdditional Reductions In-store Apparel \nWine and Lite Bites
URL:https://shoppesatthornebrook.com/event/joseph-ribkoff-special-event/
LOCATION:Ilene’s Gator Store\, 2441 NW 43rd St\, #19\, Thornebrook Village\, Gainesville\, FL\, 32606\, United States
ATTACH;FMTTYPE=image/png:https://shoppesatthornebrook.com/wp-content/uploads/2020/01/Joseph-Ribkoff-Event.png
END:VEVENT
END:VCALENDAR