BEGIN:VCALENDAR
VERSION:2.0
PRODID:-//Shoppes at Thornebrook - ECPv6.15.20//NONSGML v1.0//EN
CALSCALE:GREGORIAN
METHOD:PUBLISH
X-WR-CALNAME:Shoppes at Thornebrook
X-ORIGINAL-URL:https://shoppesatthornebrook.com
X-WR-CALDESC:Events for Shoppes at Thornebrook
REFRESH-INTERVAL;VALUE=DURATION:PT1H
X-Robots-Tag:noindex
X-PUBLISHED-TTL:PT1H
BEGIN:VTIMEZONE
TZID:America/New_York
BEGIN:DAYLIGHT
TZOFFSETFROM:-0500
TZOFFSETTO:-0400
TZNAME:EDT
DTSTART:20180311T070000
END:DAYLIGHT
BEGIN:STANDARD
TZOFFSETFROM:-0400
TZOFFSETTO:-0500
TZNAME:EST
DTSTART:20181104T060000
END:STANDARD
BEGIN:DAYLIGHT
TZOFFSETFROM:-0500
TZOFFSETTO:-0400
TZNAME:EDT
DTSTART:20190310T070000
END:DAYLIGHT
BEGIN:STANDARD
TZOFFSETFROM:-0400
TZOFFSETTO:-0500
TZNAME:EST
DTSTART:20191103T060000
END:STANDARD
BEGIN:DAYLIGHT
TZOFFSETFROM:-0500
TZOFFSETTO:-0400
TZNAME:EDT
DTSTART:20200308T070000
END:DAYLIGHT
BEGIN:STANDARD
TZOFFSETFROM:-0400
TZOFFSETTO:-0500
TZNAME:EST
DTSTART:20201101T060000
END:STANDARD
END:VTIMEZONE
BEGIN:VEVENT
DTSTART;TZID=America/New_York:20191211T150000
DTEND;TZID=America/New_York:20191211T183000
DTSTAMP:20260422T050917
CREATED:20191203T195914Z
LAST-MODIFIED:20191205T192702Z
UID:1475-1576076400-1576089000@shoppesatthornebrook.com
SUMMARY:Joseph Ribkoff Holiday Event
DESCRIPTION:Come see the Fall/Winter and Holiday collections from Montreal designer Joseph Ribkoff.  Also featuring a preview of the Spring 2020 line.  Representative Kara Slankard will be there to discuss the collection and answer questions.  Browse in-store only sales.  Wine and light bites will be served.
URL:https://shoppesatthornebrook.com/event/joseph-ribkoff-holiday-event/
LOCATION:Ilene’s Gator Store\, 2441 NW 43rd St\, #19\, Thornebrook Village\, Gainesville\, FL\, 32606\, United States
ATTACH;FMTTYPE=image/jpeg:https://shoppesatthornebrook.com/wp-content/uploads/2019/12/image1.jpg
ORGANIZER;CN="Ilene's Gator Store":MAILTO:info@ilenesgatorstore.com
END:VEVENT
END:VCALENDAR