BEGIN:VCALENDAR
VERSION:2.0
PRODID:-//Shoppes at Thornebrook - ECPv6.15.20//NONSGML v1.0//EN
CALSCALE:GREGORIAN
METHOD:PUBLISH
X-WR-CALNAME:Shoppes at Thornebrook
X-ORIGINAL-URL:https://shoppesatthornebrook.com
X-WR-CALDESC:Events for Shoppes at Thornebrook
REFRESH-INTERVAL;VALUE=DURATION:PT1H
X-Robots-Tag:noindex
X-PUBLISHED-TTL:PT1H
BEGIN:VTIMEZONE
TZID:America/New_York
BEGIN:DAYLIGHT
TZOFFSETFROM:-0500
TZOFFSETTO:-0400
TZNAME:EDT
DTSTART:20180311T070000
END:DAYLIGHT
BEGIN:STANDARD
TZOFFSETFROM:-0400
TZOFFSETTO:-0500
TZNAME:EST
DTSTART:20181104T060000
END:STANDARD
BEGIN:DAYLIGHT
TZOFFSETFROM:-0500
TZOFFSETTO:-0400
TZNAME:EDT
DTSTART:20190310T070000
END:DAYLIGHT
BEGIN:STANDARD
TZOFFSETFROM:-0400
TZOFFSETTO:-0500
TZNAME:EST
DTSTART:20191103T060000
END:STANDARD
BEGIN:DAYLIGHT
TZOFFSETFROM:-0500
TZOFFSETTO:-0400
TZNAME:EDT
DTSTART:20200308T070000
END:DAYLIGHT
BEGIN:STANDARD
TZOFFSETFROM:-0400
TZOFFSETTO:-0500
TZNAME:EST
DTSTART:20201101T060000
END:STANDARD
END:VTIMEZONE
BEGIN:VEVENT
DTSTART;TZID=America/New_York:20191130T100000
DTEND;TZID=America/New_York:20191130T180000
DTSTAMP:20260422T080629
CREATED:20191129T204753Z
LAST-MODIFIED:20191129T204753Z
UID:1471-1575108000-1575136800@shoppesatthornebrook.com
SUMMARY:Small Business Saturday
DESCRIPTION:Support local business and get the gifts you won’t find anywhere else.  Our village of unique shoppes is dressed for the holidays. It’s time to slow down and enjoy holiday shopping again! \nSome of the sales include:\n* 15% OFF storewide at Life Unplastic\n* Up to 50% OFF at The Painted Table\n* Two week all-access pass to GHF Women for only $29\n* Christmas earring tutorial at Bead All About It\n* Complimentary gift wrap at Ilene’s Gator Store\n* 10% off ALL products at Floating Lotus Spa \n** Event hours vary depending on individual shop hours
URL:https://shoppesatthornebrook.com/event/small-business-saturday/
LOCATION:Shoppes At Thornebrook\, 2441 NW 43rd Street\, Gainesville\, 32606\, United States
ATTACH;FMTTYPE=image/png:https://shoppesatthornebrook.com/wp-content/uploads/2019/11/small-business-saturday-1.png
END:VEVENT
END:VCALENDAR