BEGIN:VCALENDAR
VERSION:2.0
PRODID:-//Shoppes at Thornebrook - ECPv6.15.20//NONSGML v1.0//EN
CALSCALE:GREGORIAN
METHOD:PUBLISH
X-ORIGINAL-URL:https://shoppesatthornebrook.com
X-WR-CALDESC:Events for Shoppes at Thornebrook
REFRESH-INTERVAL;VALUE=DURATION:PT1H
X-Robots-Tag:noindex
X-PUBLISHED-TTL:PT1H
BEGIN:VTIMEZONE
TZID:America/New_York
BEGIN:DAYLIGHT
TZOFFSETFROM:-0500
TZOFFSETTO:-0400
TZNAME:EDT
DTSTART:20180311T070000
END:DAYLIGHT
BEGIN:STANDARD
TZOFFSETFROM:-0400
TZOFFSETTO:-0500
TZNAME:EST
DTSTART:20181104T060000
END:STANDARD
BEGIN:DAYLIGHT
TZOFFSETFROM:-0500
TZOFFSETTO:-0400
TZNAME:EDT
DTSTART:20190310T070000
END:DAYLIGHT
BEGIN:STANDARD
TZOFFSETFROM:-0400
TZOFFSETTO:-0500
TZNAME:EST
DTSTART:20191103T060000
END:STANDARD
BEGIN:DAYLIGHT
TZOFFSETFROM:-0500
TZOFFSETTO:-0400
TZNAME:EDT
DTSTART:20200308T070000
END:DAYLIGHT
BEGIN:STANDARD
TZOFFSETFROM:-0400
TZOFFSETTO:-0500
TZNAME:EST
DTSTART:20201101T060000
END:STANDARD
END:VTIMEZONE
BEGIN:VEVENT
DTSTART;TZID=America/New_York:20191114T180000
DTEND;TZID=America/New_York:20191114T200000
DTSTAMP:20260422T081215
CREATED:20190417T201216Z
LAST-MODIFIED:20191115T143849Z
UID:1228-1573754400-1573761600@shoppesatthornebrook.com
SUMMARY:Tree Lighting and Gainesville Youth Choir - cancelled due to weather
DESCRIPTION:Join us as we light the tree accompanied by carols from the Gainesville Youth Chorus. This enchanting event will take place in the Thornebrook Village square.\nThis event has unfortunately been canceled due to weather.  We are looking for a best time to reschedule.
URL:https://shoppesatthornebrook.com/event/tree-lighting-and-gainesville-youth-choir/
LOCATION:Shoppes At Thornebrook\, 2441 NW 43rd Street\, Gainesville\, 32606\, United States
ATTACH;FMTTYPE=image/png:https://shoppesatthornebrook.com/wp-content/uploads/2019/04/Tree-lighting-and-youth-chorus.png
END:VEVENT
END:VCALENDAR