BEGIN:VCALENDAR
VERSION:2.0
PRODID:-//Shoppes at Thornebrook - ECPv6.15.20//NONSGML v1.0//EN
CALSCALE:GREGORIAN
METHOD:PUBLISH
X-WR-CALNAME:Shoppes at Thornebrook
X-ORIGINAL-URL:https://shoppesatthornebrook.com
X-WR-CALDESC:Events for Shoppes at Thornebrook
REFRESH-INTERVAL;VALUE=DURATION:PT1H
X-Robots-Tag:noindex
X-PUBLISHED-TTL:PT1H
BEGIN:VTIMEZONE
TZID:America/New_York
BEGIN:DAYLIGHT
TZOFFSETFROM:-0500
TZOFFSETTO:-0400
TZNAME:EDT
DTSTART:20180311T070000
END:DAYLIGHT
BEGIN:STANDARD
TZOFFSETFROM:-0400
TZOFFSETTO:-0500
TZNAME:EST
DTSTART:20181104T060000
END:STANDARD
BEGIN:DAYLIGHT
TZOFFSETFROM:-0500
TZOFFSETTO:-0400
TZNAME:EDT
DTSTART:20190310T070000
END:DAYLIGHT
BEGIN:STANDARD
TZOFFSETFROM:-0400
TZOFFSETTO:-0500
TZNAME:EST
DTSTART:20191103T060000
END:STANDARD
BEGIN:DAYLIGHT
TZOFFSETFROM:-0500
TZOFFSETTO:-0400
TZNAME:EDT
DTSTART:20200308T070000
END:DAYLIGHT
BEGIN:STANDARD
TZOFFSETFROM:-0400
TZOFFSETTO:-0500
TZNAME:EST
DTSTART:20201101T060000
END:STANDARD
END:VTIMEZONE
BEGIN:VEVENT
DTSTART;TZID=America/New_York:20190831T110000
DTEND;TZID=America/New_York:20190831T120000
DTSTAMP:20260422T115729
CREATED:20190821T192716Z
LAST-MODIFIED:20190821T192716Z
UID:1336-1567249200-1567252800@shoppesatthornebrook.com
SUMMARY:Vintage Furniture Paint Class
DESCRIPTION:Bring a small piece of furniture and learn to paint with Vintage Furniture Paint. All materials provided and you will leave with a brand new piece. Refreshments provided while we wait on paint to dry.
URL:https://shoppesatthornebrook.com/event/vintage-furniture-paint-class/
LOCATION:Sawdust Dreams\, 2441 nw 43rd street unit 27A\, Gainesville\, FL\, 32605\, United States
ATTACH;FMTTYPE=image/jpeg:https://shoppesatthornebrook.com/wp-content/uploads/2019/08/67671815_2271473269831112_7888665212516040704_n.jpg
END:VEVENT
END:VCALENDAR