BEGIN:VCALENDAR
VERSION:2.0
PRODID:-//Shoppes at Thornebrook - ECPv6.15.20//NONSGML v1.0//EN
CALSCALE:GREGORIAN
METHOD:PUBLISH
X-WR-CALNAME:Shoppes at Thornebrook
X-ORIGINAL-URL:https://shoppesatthornebrook.com
X-WR-CALDESC:Events for Shoppes at Thornebrook
REFRESH-INTERVAL;VALUE=DURATION:PT1H
X-Robots-Tag:noindex
X-PUBLISHED-TTL:PT1H
BEGIN:VTIMEZONE
TZID:America/New_York
BEGIN:DAYLIGHT
TZOFFSETFROM:-0500
TZOFFSETTO:-0400
TZNAME:EDT
DTSTART:20180311T070000
END:DAYLIGHT
BEGIN:STANDARD
TZOFFSETFROM:-0400
TZOFFSETTO:-0500
TZNAME:EST
DTSTART:20181104T060000
END:STANDARD
BEGIN:DAYLIGHT
TZOFFSETFROM:-0500
TZOFFSETTO:-0400
TZNAME:EDT
DTSTART:20190310T070000
END:DAYLIGHT
BEGIN:STANDARD
TZOFFSETFROM:-0400
TZOFFSETTO:-0500
TZNAME:EST
DTSTART:20191103T060000
END:STANDARD
BEGIN:DAYLIGHT
TZOFFSETFROM:-0500
TZOFFSETTO:-0400
TZNAME:EDT
DTSTART:20200308T070000
END:DAYLIGHT
BEGIN:STANDARD
TZOFFSETFROM:-0400
TZOFFSETTO:-0500
TZNAME:EST
DTSTART:20201101T060000
END:STANDARD
END:VTIMEZONE
BEGIN:VEVENT
DTSTART;TZID=America/New_York:20190803T100000
DTEND;TZID=America/New_York:20190803T160000
DTSTAMP:20260422T115036
CREATED:20190821T193340Z
LAST-MODIFIED:20190821T193340Z
UID:1340-1564826400-1564848000@shoppesatthornebrook.com
SUMMARY:Back To School with Arabesque
DESCRIPTION:Join us for our Back To School Event this Saturday! Stock up and save! Plus it’s TAX FREE WEEKEND! \n – Free Body Glitter Tattoos\n – Free Hair bun classes\n – Raffles\n – Free giveaways with every purchase\n – 10% off your entire purchase \nPlus\, every $50 spent gets you a chance to win a $50 gift card.
URL:https://shoppesatthornebrook.com/event/back-to-school-with-arabesque/
LOCATION:Arabesque Dance and Activewear\, 2441 NW 43rd St\, Suite 3C\, Gainesville\, FL\, 32605\, United States
ATTACH;FMTTYPE=image/png:https://shoppesatthornebrook.com/wp-content/uploads/2019/08/Back-To-School.png
END:VEVENT
END:VCALENDAR